BEGIN:VCALENDAR
VERSION:2.0
PRODID:-//Afigese - ECPv6.10.3//NONSGML v1.0//EN
CALSCALE:GREGORIAN
METHOD:PUBLISH
X-ORIGINAL-URL:https://afigese.fr
X-WR-CALDESC:Évènements pour Afigese
REFRESH-INTERVAL;VALUE=DURATION:PT1H
X-Robots-Tag:noindex
X-PUBLISHED-TTL:PT1H
BEGIN:VTIMEZONE
TZID:Europe/Paris
BEGIN:DAYLIGHT
TZOFFSETFROM:+0100
TZOFFSETTO:+0200
TZNAME:CEST
DTSTART:20190331T010000
END:DAYLIGHT
BEGIN:STANDARD
TZOFFSETFROM:+0200
TZOFFSETTO:+0100
TZNAME:CET
DTSTART:20191027T010000
END:STANDARD
END:VTIMEZONE
BEGIN:VEVENT
DTSTART;VALUE=DATE:20190416
DTEND;VALUE=DATE:20190417
DTSTAMP:20260421T141652
CREATED:20190411T100251Z
LAST-MODIFIED:20190411T100427Z
UID:4389-1555372800-1555459199@afigese.fr
SUMMARY:Colloque Gestion locale & Chambres régionales des comptes
DESCRIPTION: \n \n \n \n \n \n \n \nPrésentation\nLes chambres régionales des comptes exercent un contrôle sur les comptes des comptables publics des collectivités territoriales\, des établissements publics locaux et des groupements d’intérêt public. En parallèle de cette mission juridictionnelle\, ces juridictions assurent également le contrôle des actes budgétaires des collectivités territoriales. Au demeurant\, elles interviennent afin de vérifier la régularité des actes de gestion et l’économie des moyens mis en oeuvre\, ainsi que pour évaluer les résultats atteints par rapport aux objectifs fixés par l’assemblée délibérante. \nLa loi du 7 août 2015 portant nouvelle organisation territoriale de la République (loi NOTRé) a renforcé la publicité et le suivi des contrôles opérés sur le budget et la gestion des collectivités territoriales. En effet\, le législateur a imposé la publication immédiate des avis budgétaires rendus par les chambres régionales des comptes. Au demeurant\, s’agissant du suivi des recommandations formulées dans le cadre de l’examen de gestion\, l’ordonnateur dispose d’un délai d’un an\, à compter de la présentation du rapport d’observations définitives à l’assemblée délibérante\, pour présenter à ladite assemblée les actions entreprises suite à ce rapport. La loi NOTRé a également initié une expérimentation de la certification des comptes des collectivités territoriales et de leurs groupements. L’évolution la plus récente est prévue par l’article 242 de la loi de finances pour 2019. À partir de 2020\, les collectivités volontaires pourront expérimenter un « compte financier unique » se substituant au compte administratif établi par l’ordonnateur et au compte de gestion tenu par le comptable public. \nIn fine\, ce colloque porte une double ambition. D’une part\, analyser les apports de ces juridictions financières à la qualité de la gestion locale et les conséquences des récentes évolutions législatives. D’autre part\, confronter les perceptions quant à l’exercice de leurs missions et identifier les marges de progression. \n  \nProgramme\n4 tables rondes :  \nL’examen de la gestion des collectivités territoriales. Quelle effectivité ? Quelles conséquences ? \nLe contrôle budgétaire des collectivités territoriales. Quel intérêt ? Quels apports ? \nLa certification des comptes des collectivités territoriales. Quels changements ? Quelles modalités ? \nLe compte financier unique. Une (r)évolution inévitable ? \n  \nIntervention de Marie-Christine BARANGER\, Agent comptable à la Société du Grand Paris\, administratrice de l’AFIGESE et co-pilote du groupe de travail « Qualité des comptes et certification » de l’AFIGESE.  \n  \nProgramme et inscriptions par ici\n  \n\n 
URL:https://afigese.fr/evenement/colloque-gestion-locale-chambres-regionales-des-comptes/
LOCATION:St Denis de La Réunion
CATEGORIES:Colloques
ATTACH;FMTTYPE=image/png:https://afigese.fr/wp-content/uploads/2019/04/Univ-réunion.png
END:VEVENT
END:VCALENDAR