BEGIN:VCALENDAR
VERSION:2.0
PRODID:-//Afigese - ECPv6.10.3//NONSGML v1.0//EN
CALSCALE:GREGORIAN
METHOD:PUBLISH
X-ORIGINAL-URL:https://afigese.fr
X-WR-CALDESC:Évènements pour Afigese
REFRESH-INTERVAL;VALUE=DURATION:PT1H
X-Robots-Tag:noindex
X-PUBLISHED-TTL:PT1H
BEGIN:VTIMEZONE
TZID:Europe/Paris
BEGIN:DAYLIGHT
TZOFFSETFROM:+0100
TZOFFSETTO:+0200
TZNAME:CEST
DTSTART:20200329T010000
END:DAYLIGHT
BEGIN:STANDARD
TZOFFSETFROM:+0200
TZOFFSETTO:+0100
TZNAME:CET
DTSTART:20201025T010000
END:STANDARD
BEGIN:DAYLIGHT
TZOFFSETFROM:+0100
TZOFFSETTO:+0200
TZNAME:CEST
DTSTART:20210328T010000
END:DAYLIGHT
BEGIN:STANDARD
TZOFFSETFROM:+0200
TZOFFSETTO:+0100
TZNAME:CET
DTSTART:20211031T010000
END:STANDARD
BEGIN:DAYLIGHT
TZOFFSETFROM:+0100
TZOFFSETTO:+0200
TZNAME:CEST
DTSTART:20220327T010000
END:DAYLIGHT
BEGIN:STANDARD
TZOFFSETFROM:+0200
TZOFFSETTO:+0100
TZNAME:CET
DTSTART:20221030T010000
END:STANDARD
BEGIN:DAYLIGHT
TZOFFSETFROM:+0100
TZOFFSETTO:+0200
TZNAME:CEST
DTSTART:20230326T010000
END:DAYLIGHT
BEGIN:STANDARD
TZOFFSETFROM:+0200
TZOFFSETTO:+0100
TZNAME:CET
DTSTART:20231029T010000
END:STANDARD
BEGIN:DAYLIGHT
TZOFFSETFROM:+0100
TZOFFSETTO:+0200
TZNAME:CEST
DTSTART:20240331T010000
END:DAYLIGHT
BEGIN:STANDARD
TZOFFSETFROM:+0200
TZOFFSETTO:+0100
TZNAME:CET
DTSTART:20241027T010000
END:STANDARD
BEGIN:DAYLIGHT
TZOFFSETFROM:+0100
TZOFFSETTO:+0200
TZNAME:CEST
DTSTART:20250330T010000
END:DAYLIGHT
BEGIN:STANDARD
TZOFFSETFROM:+0200
TZOFFSETTO:+0100
TZNAME:CET
DTSTART:20251026T010000
END:STANDARD
BEGIN:DAYLIGHT
TZOFFSETFROM:+0100
TZOFFSETTO:+0200
TZNAME:CEST
DTSTART:20260329T010000
END:DAYLIGHT
BEGIN:STANDARD
TZOFFSETFROM:+0200
TZOFFSETTO:+0100
TZNAME:CET
DTSTART:20261025T010000
END:STANDARD
END:VTIMEZONE
BEGIN:VEVENT
DTSTART;TZID=Europe/Paris:20200619T100000
DTEND;TZID=Europe/Paris:20200619T120000
DTSTAMP:20260425T212924
CREATED:20200603T141647Z
LAST-MODIFIED:20200603T141647Z
UID:5933-1592560800-1592568000@afigese.fr
SUMMARY:GT Qualité des Comptes en visioconférence
DESCRIPTION:Le groupe de travail Qualité des Comptes et Certification se réunira le vendredi 19 juin 2020 de 10h à 12h en visioconférence.  \nEn savoir plus sur le groupe. \nRenseignements à cette adresse.
URL:https://afigese.fr/evenement/gt-qualite-des-comptes-en-visioconference/
END:VEVENT
BEGIN:VEVENT
DTSTART;TZID=Europe/Paris:20200618T160000
DTEND;TZID=Europe/Paris:20200619T180000
DTSTAMP:20260425T212924
CREATED:20200619T100252Z
LAST-MODIFIED:20200619T100252Z
UID:5982-1592496000-1592589600@afigese.fr
SUMMARY:Maîtriser l'animation une classe virtuelle
DESCRIPTION:Formation destinée aux formateurs de l’AFIGESE \n« Maîtriser l’animation de classes virtuelles ».  \nDans le cadre du développement des formations à distance\, l’AFIGESE propose de fournir une méthodologie pédagogique à ses intervenants sur ce type de format nouveau.  Les objectifs sont les suivants :  \n1. Maîtriser les fonctionnalités techniques de l’outil interactif afin d’optimiser son utilisation\n2. Scénariser les séquences afin de rendre dynamique l’intervention\, favoriser l’attention : comment construire un programme de formation adapté à la formation à distance\, comment construire son support PWT\n3. Adapter sa posture d’intervenant quand on forme à distance\, quel comportement avoir ? \n  \nDeux sessions programmées actuellement :  \n\nles 18 et 19 juin 2020 de 16h à 18h\nle 2 juillet de 9h30 à 11h30 et le 3 juillet 2020 de 14h à 16h\n\nPlus d’informations
URL:https://afigese.fr/evenement/maitriser-lanimation-une-classe-virtuelle/
END:VEVENT
BEGIN:VEVENT
DTSTART;TZID=Europe/Paris:20200612T100000
DTEND;TZID=Europe/Paris:20200612T120000
DTSTAMP:20260425T212924
CREATED:20200603T141845Z
LAST-MODIFIED:20200603T141845Z
UID:5935-1591956000-1591963200@afigese.fr
SUMMARY:GT Évaluation des Politiques Publiques en visioconférence
DESCRIPTION:Le groupe de travail Évaluation des Politiques Publiques se réunira le vendredi 12 juin 2020 de 10h à 12h en visioconférence.  \nEn savoir plus sur le groupe. \nRenseignements à cette adresse.
URL:https://afigese.fr/evenement/gt-evaluation-des-politiques-publiques-en-visioconference/
END:VEVENT
BEGIN:VEVENT
DTSTART;TZID=Europe/Paris:20200610T100000
DTEND;TZID=Europe/Paris:20200610T120000
DTSTAMP:20260425T212924
CREATED:20200518T103116Z
LAST-MODIFIED:20200518T103145Z
UID:5898-1591783200-1591790400@afigese.fr
SUMMARY:GT Fiscalité et Dotations en visio
DESCRIPTION:Le groupe de travail Fiscalité et Dotations se réunira le mercredi 10 juin 2020 de 10h à 12h en visioconférence.  \nEn savoir plus sur le groupe. \nRenseignements à cette adresse. 
URL:https://afigese.fr/evenement/gt-fiscalite-et-dotations-en-visio-2/
END:VEVENT
BEGIN:VEVENT
DTSTART;TZID=Europe/Paris:20200605T100000
DTEND;TZID=Europe/Paris:20200605T120000
DTSTAMP:20260425T212924
CREATED:20200525T111604Z
LAST-MODIFIED:20200525T111604Z
UID:5911-1591351200-1591358400@afigese.fr
SUMMARY:GT Qualité des Comptes et Certification en visio
DESCRIPTION:Le groupe de travail Qualité des Comptes et Certification se réunira le vendredi 5 juin 2020 de 10h à 12h en visioconférence.  \nEn savoir plus sur le groupe. \nRenseignements à cette adresse.
URL:https://afigese.fr/evenement/gt-qualite-des-comptes-et-certification-en-visio-3/
END:VEVENT
BEGIN:VEVENT
DTSTART;TZID=Europe/Paris:20200526T100000
DTEND;TZID=Europe/Paris:20200526T120000
DTSTAMP:20260425T212924
CREATED:20200518T141311Z
LAST-MODIFIED:20200518T141311Z
UID:5902-1590487200-1590494400@afigese.fr
SUMMARY:GT Qualité des Comptes et Certification en visio
DESCRIPTION:Le groupe de travail Qualité des Comptes et Certification se réunira le mardi 26 mai 2020 de 10h à 12h en visioconférence.  \nEn savoir plus sur le groupe. \nRenseignements à cette adresse. 
URL:https://afigese.fr/evenement/gt-qualite-des-comptes-et-certification-en-visio-2/
END:VEVENT
BEGIN:VEVENT
DTSTART;TZID=Europe/Paris:20200520T143000
DTEND;TZID=Europe/Paris:20200520T163000
DTSTAMP:20260425T212924
CREATED:20200518T103036Z
LAST-MODIFIED:20200518T103036Z
UID:5896-1589985000-1589992200@afigese.fr
SUMMARY:GT Fiscalité et Dotations en visio
DESCRIPTION:Le groupe de travail Fiscalité et Dotations se réunira le mercredi 20 mai 2020 de 14h30 à 16h30 en visioconférence.  \nEn savoir plus sur le groupe. \nRenseignements à cette adresse. 
URL:https://afigese.fr/evenement/gt-fiscalite-et-dotations-en-visio/
END:VEVENT
BEGIN:VEVENT
DTSTART;TZID=Europe/Paris:20200515T100000
DTEND;TZID=Europe/Paris:20200515T120000
DTSTAMP:20260425T212924
CREATED:20200505T093903Z
LAST-MODIFIED:20200505T094343Z
UID:5871-1589536800-1589544000@afigese.fr
SUMMARY:GT Dématérialisation en visio
DESCRIPTION:Le groupe de travail Dématérialisation se réunira le vendredi 15 mai 2020 en visioconférence.  \nRenseignements à cette adresse.  \nPlus d’informations sur le groupe.  \n\n 
URL:https://afigese.fr/evenement/gt-dematerialisation-en-visio-4/
END:VEVENT
BEGIN:VEVENT
DTSTART;TZID=Europe/Paris:20200514T143000
DTEND;TZID=Europe/Paris:20200514T160000
DTSTAMP:20260425T212924
CREATED:20200513T074621Z
LAST-MODIFIED:20200513T075018Z
UID:5881-1589466600-1589472000@afigese.fr
SUMMARY:GT "Indicateurs financiers" en visio
DESCRIPTION:L’AFIGESE\, France Urbaine et l’OFGL planchent sur la refonte des indicateurs financiers au sein de ce nouveau groupe de travail commun. \nEn visio \nEn savoir plus
URL:https://afigese.fr/evenement/gt-indicateurs-financiers-en-visio/
END:VEVENT
BEGIN:VEVENT
DTSTART;TZID=Europe/Paris:20200514T100000
DTEND;TZID=Europe/Paris:20200514T120000
DTSTAMP:20260425T212924
CREATED:20200506T130355Z
LAST-MODIFIED:20200506T130355Z
UID:5876-1589450400-1589457600@afigese.fr
SUMMARY:GT Qualité des Comptes et Certification en visio
DESCRIPTION:Le groupe de travail Qualité des Comptes et Certification se réunira le jeudi 14 mai 2020 de 10h à 12h en visioconférence.  \nEn savoir plus sur le groupe. \nRenseignements à cette adresse. 
URL:https://afigese.fr/evenement/gt-qualite-des-comptes-et-certification-en-visio/
END:VEVENT
BEGIN:VEVENT
DTSTART;TZID=Europe/Paris:20200513T170000
DTEND;TZID=Europe/Paris:20200513T183000
DTSTAMP:20260425T212924
CREATED:20200417T120446Z
LAST-MODIFIED:20200417T120446Z
UID:5844-1589389200-1589394600@afigese.fr
SUMMARY:Bureau de l'AFIGESE
DESCRIPTION:Organisation du Bureau de l’AFIGESE réservé aux administrateurs de l’association.
URL:https://afigese.fr/evenement/bureau-de-lafigese/
END:VEVENT
BEGIN:VEVENT
DTSTART;TZID=Europe/Paris:20200507T143000
DTEND;TZID=Europe/Paris:20200507T163000
DTSTAMP:20260425T212924
CREATED:20200430T125309Z
LAST-MODIFIED:20200430T125341Z
UID:5866-1588861800-1588869000@afigese.fr
SUMMARY:Groupe de travail "indicateurs financiers"
DESCRIPTION:Groupe de travail commun AFIGESE\, France Urbaine et OFGL sur les indicateurs financiers. \n  \nEn savoir plus sur le Groupe de travail « Fiscalité & dotations »
URL:https://afigese.fr/evenement/groupe-de-travail-indicateurs-financiers/
END:VEVENT
BEGIN:VEVENT
DTSTART;TZID=Europe/Paris:20200416T100000
DTEND;TZID=Europe/Paris:20200416T120000
DTSTAMP:20260425T212924
CREATED:20200416T134936Z
LAST-MODIFIED:20200416T134936Z
UID:5841-1587031200-1587038400@afigese.fr
SUMMARY:GT Dématérialisation en visio
DESCRIPTION:Le groupe de travail Dématérialisation se réunira le jeudi 30 avril 2020 en visioconférence.  \nRenseignements à cette adresse.  \nPlus d’informations sur le groupe. 
URL:https://afigese.fr/evenement/gt-dematerialisation-en-visio-3/
END:VEVENT
BEGIN:VEVENT
DTSTART;TZID=Europe/Paris:20200409T093000
DTEND;TZID=Europe/Paris:20200409T120000
DTSTAMP:20260425T212924
CREATED:20200407T072236Z
LAST-MODIFIED:20200407T072313Z
UID:5819-1586424600-1586433600@afigese.fr
SUMMARY:GT Evaluation des Politiques Publiques en visio
DESCRIPTION:Le groupe de travail Évaluation des Politiques Publiques se réunira le jeudi 9 avril 2020 de 9h30 à 12h en visioconférence.  \nPlus d’informations sur le groupe.  \nRenseignements à cette adresse. 
URL:https://afigese.fr/evenement/gt-evaluation-des-politiques-publiques-a-distance/
END:VEVENT
BEGIN:VEVENT
DTSTART;TZID=Europe/Paris:20200407T100000
DTEND;TZID=Europe/Paris:20200407T120000
DTSTAMP:20260425T212924
CREATED:20200331T100918Z
LAST-MODIFIED:20200331T101342Z
UID:5786-1586253600-1586260800@afigese.fr
SUMMARY:GT Dématérialisation en visio
DESCRIPTION:Le groupe de travail Dématérialisation se réunira le mardi 7 avril 2020 de 10h à 12h en visioconférence.  \nRenseignements à cette adresse. 
URL:https://afigese.fr/evenement/gt-dematerialisation-en-visio-2/
END:VEVENT
BEGIN:VEVENT
DTSTART;TZID=Europe/Paris:20200403T100000
DTEND;TZID=Europe/Paris:20200403T120000
DTSTAMP:20260425T212924
CREATED:20200331T100825Z
LAST-MODIFIED:20200331T101411Z
UID:5784-1585908000-1585915200@afigese.fr
SUMMARY:GT Dématérialisation en visio
DESCRIPTION:Le groupe de travail Dématérialisation se réunira le vendredi 3 avril 2020 en visioconférence.  \nRenseignements à cette adresse. 
URL:https://afigese.fr/evenement/gt-dematerialisation-en-visio/
END:VEVENT
BEGIN:VEVENT
DTSTART;TZID=Europe/Paris:20200207T100000
DTEND;TZID=Europe/Paris:20200207T163000
DTSTAMP:20260425T212924
CREATED:20200103T134710Z
LAST-MODIFIED:20200103T134710Z
UID:5516-1581069600-1581093000@afigese.fr
SUMMARY:Groupe de travail / Nouveaux Périmètres
DESCRIPTION:Le groupe de travail Nouveaux Périmètres se réunira le vendredi 7 février 2020 à Paris. \nEn savoir plus sur le groupe. \nRenseignements à cette adresse. 
URL:https://afigese.fr/evenement/groupe-de-travail-nouveaux-perimetres-5/
LOCATION:Untitled
END:VEVENT
BEGIN:VEVENT
DTSTART;TZID=Europe/Paris:20200206T100000
DTEND;TZID=Europe/Paris:20200206T163000
DTSTAMP:20260425T212924
CREATED:20200103T134432Z
LAST-MODIFIED:20200221T152933Z
UID:5514-1580983200-1581006600@afigese.fr
SUMMARY:Groupe de travail / Qualité des Comptes et Certification
DESCRIPTION:Le groupe de travail Qualité des Comptes et Certification se réunira le jeudi 6 février 2020 à Paris. \nEn savoir plus sur le groupe. \nRenseignements à cette adresse. 
URL:https://afigese.fr/evenement/groupe-de-travail-qualite-des-comptes-et-certification-5/
LOCATION:Untitled
END:VEVENT
BEGIN:VEVENT
DTSTART;TZID=Europe/Paris:20200131T100000
DTEND;TZID=Europe/Paris:20200131T163000
DTSTAMP:20260425T212924
CREATED:20200103T133834Z
LAST-MODIFIED:20200103T133834Z
UID:5512-1580464800-1580488200@afigese.fr
SUMMARY:Groupe de travail / Pilotage des Politiques d'Action Sociale
DESCRIPTION:Le groupe de travail Pilotage des Politiques d’Action Sociale se réunira le vendredi 31 janvier 2020 à Paris. \nEn savoir plus sur le groupe. \nRenseignements à cette adresse. 
URL:https://afigese.fr/evenement/groupe-de-travail-pilotage-des-politiques-daction-sociale/
LOCATION:Untitled
END:VEVENT
BEGIN:VEVENT
DTSTART;TZID=Europe/Paris:20260425T212924
DTEND;TZID=Europe/Paris:20260425T212924
DTSTAMP:20260425T212924
CREATED:20180921T124655Z
LAST-MODIFIED:20181107T111141Z
UID:3503-1777152564-1777152564@afigese.fr
SUMMARY:Développer des pratiques d’évaluation utiles au pilotage stratégique et opérationnel : conception\, méthode\, outils\, livrables
DESCRIPTION:Cette formation se veut très opérationnelle : véritable boîte à outils pour mener vos premières évaluations au sein de votre collectivité. \n  \nINSCRIPTION
URL:https://afigese.fr/evenement/developper-des-pratiques-devaluation-utiles-au-pilotage-strategique-et-operationnel-conception-methode-outils-livrables/
END:VEVENT
BEGIN:VEVENT
DTSTART;TZID=Europe/Paris:20210129T093000
DTEND;TZID=Europe/Paris:20210129T113000
DTSTAMP:20260425T212924
CREATED:20201223T083150Z
LAST-MODIFIED:20201223T083150Z
UID:7048-1611912600-1611919800@afigese.fr
SUMMARY:GT Pilotage et Outils d'Aide à la Décision
DESCRIPTION:Le groupe de travail Pilotage et Outils d’Aide à la Décision se réunira le vendredi 29 janvier 2021 de 9h30 à 11h30 en visioconférence. \nEn savoir plus sur le groupe.  \nRenseignements à cette adresse. 
URL:https://afigese.fr/evenement/gt-pilotage-et-outils-daide-a-la-decision-2/
END:VEVENT
BEGIN:VEVENT
DTSTART;TZID=Europe/Paris:20210129T093000
DTEND;TZID=Europe/Paris:20210129T113000
DTSTAMP:20260425T212924
CREATED:20201223T083150Z
LAST-MODIFIED:20201223T083150Z
UID:7048-1611912600-1611919800@afigese.fr
SUMMARY:GT Pilotage et Outils d'Aide à la Décision
DESCRIPTION:Le groupe de travail Pilotage et Outils d’Aide à la Décision se réunira le vendredi 29 janvier 2021 de 9h30 à 11h30 en visioconférence. \nEn savoir plus sur le groupe.  \nRenseignements à cette adresse. 
URL:https://afigese.fr/evenement/gt-pilotage-et-outils-daide-a-la-decision-2/
END:VEVENT
BEGIN:VEVENT
DTSTART;TZID=Europe/Paris:20210129T093000
DTEND;TZID=Europe/Paris:20210129T113000
DTSTAMP:20260425T212924
CREATED:20201223T083150Z
LAST-MODIFIED:20201223T083150Z
UID:7048-1611912600-1611919800@afigese.fr
SUMMARY:GT Pilotage et Outils d'Aide à la Décision
DESCRIPTION:Le groupe de travail Pilotage et Outils d’Aide à la Décision se réunira le vendredi 29 janvier 2021 de 9h30 à 11h30 en visioconférence. \nEn savoir plus sur le groupe.  \nRenseignements à cette adresse. 
URL:https://afigese.fr/evenement/gt-pilotage-et-outils-daide-a-la-decision-2/
END:VEVENT
BEGIN:VEVENT
DTSTART;TZID=Europe/Paris:20210129T093000
DTEND;TZID=Europe/Paris:20210129T113000
DTSTAMP:20260425T212924
CREATED:20201223T083150Z
LAST-MODIFIED:20201223T083150Z
UID:7048-1611912600-1611919800@afigese.fr
SUMMARY:GT Pilotage et Outils d'Aide à la Décision
DESCRIPTION:Le groupe de travail Pilotage et Outils d’Aide à la Décision se réunira le vendredi 29 janvier 2021 de 9h30 à 11h30 en visioconférence. \nEn savoir plus sur le groupe.  \nRenseignements à cette adresse. 
URL:https://afigese.fr/evenement/gt-pilotage-et-outils-daide-a-la-decision-2/
END:VEVENT
BEGIN:VEVENT
DTSTART;TZID=Europe/Paris:20210129T093000
DTEND;TZID=Europe/Paris:20210129T113000
DTSTAMP:20260425T212924
CREATED:20201223T083150Z
LAST-MODIFIED:20201223T083150Z
UID:7048-1611912600-1611919800@afigese.fr
SUMMARY:GT Pilotage et Outils d'Aide à la Décision
DESCRIPTION:Le groupe de travail Pilotage et Outils d’Aide à la Décision se réunira le vendredi 29 janvier 2021 de 9h30 à 11h30 en visioconférence. \nEn savoir plus sur le groupe.  \nRenseignements à cette adresse. 
URL:https://afigese.fr/evenement/gt-pilotage-et-outils-daide-a-la-decision-2/
END:VEVENT
BEGIN:VEVENT
DTSTART;TZID=Europe/Paris:20210129T093000
DTEND;TZID=Europe/Paris:20210129T113000
DTSTAMP:20260425T212924
CREATED:20201223T083150Z
LAST-MODIFIED:20201223T083150Z
UID:7048-1611912600-1611919800@afigese.fr
SUMMARY:GT Pilotage et Outils d'Aide à la Décision
DESCRIPTION:Le groupe de travail Pilotage et Outils d’Aide à la Décision se réunira le vendredi 29 janvier 2021 de 9h30 à 11h30 en visioconférence. \nEn savoir plus sur le groupe.  \nRenseignements à cette adresse. 
URL:https://afigese.fr/evenement/gt-pilotage-et-outils-daide-a-la-decision-2/
END:VEVENT
BEGIN:VEVENT
DTSTART;TZID=Europe/Paris:20210129T093000
DTEND;TZID=Europe/Paris:20210129T113000
DTSTAMP:20260425T212924
CREATED:20201223T083150Z
LAST-MODIFIED:20201223T083150Z
UID:7048-1611912600-1611919800@afigese.fr
SUMMARY:GT Pilotage et Outils d'Aide à la Décision
DESCRIPTION:Le groupe de travail Pilotage et Outils d’Aide à la Décision se réunira le vendredi 29 janvier 2021 de 9h30 à 11h30 en visioconférence. \nEn savoir plus sur le groupe.  \nRenseignements à cette adresse. 
URL:https://afigese.fr/evenement/gt-pilotage-et-outils-daide-a-la-decision-2/
END:VEVENT
BEGIN:VEVENT
DTSTART;TZID=Europe/Paris:20210129T093000
DTEND;TZID=Europe/Paris:20210129T113000
DTSTAMP:20260425T212924
CREATED:20201223T083150Z
LAST-MODIFIED:20201223T083150Z
UID:7048-1611912600-1611919800@afigese.fr
SUMMARY:GT Pilotage et Outils d'Aide à la Décision
DESCRIPTION:Le groupe de travail Pilotage et Outils d’Aide à la Décision se réunira le vendredi 29 janvier 2021 de 9h30 à 11h30 en visioconférence. \nEn savoir plus sur le groupe.  \nRenseignements à cette adresse. 
URL:https://afigese.fr/evenement/gt-pilotage-et-outils-daide-a-la-decision-2/
END:VEVENT
BEGIN:VEVENT
DTSTART;TZID=Europe/Paris:20210129T093000
DTEND;TZID=Europe/Paris:20210129T113000
DTSTAMP:20260425T212924
CREATED:20201223T083150Z
LAST-MODIFIED:20201223T083150Z
UID:7048-1611912600-1611919800@afigese.fr
SUMMARY:GT Pilotage et Outils d'Aide à la Décision
DESCRIPTION:Le groupe de travail Pilotage et Outils d’Aide à la Décision se réunira le vendredi 29 janvier 2021 de 9h30 à 11h30 en visioconférence. \nEn savoir plus sur le groupe.  \nRenseignements à cette adresse. 
URL:https://afigese.fr/evenement/gt-pilotage-et-outils-daide-a-la-decision-2/
END:VEVENT
BEGIN:VEVENT
DTSTART;TZID=Europe/Paris:20210129T093000
DTEND;TZID=Europe/Paris:20210129T113000
DTSTAMP:20260425T212924
CREATED:20201223T083150Z
LAST-MODIFIED:20201223T083150Z
UID:7048-1611912600-1611919800@afigese.fr
SUMMARY:GT Pilotage et Outils d'Aide à la Décision
DESCRIPTION:Le groupe de travail Pilotage et Outils d’Aide à la Décision se réunira le vendredi 29 janvier 2021 de 9h30 à 11h30 en visioconférence. \nEn savoir plus sur le groupe.  \nRenseignements à cette adresse. 
URL:https://afigese.fr/evenement/gt-pilotage-et-outils-daide-a-la-decision-2/
END:VEVENT
END:VCALENDAR