BEGIN:VCALENDAR
VERSION:2.0
PRODID:-//Afigese - ECPv6.10.3//NONSGML v1.0//EN
CALSCALE:GREGORIAN
METHOD:PUBLISH
X-ORIGINAL-URL:https://afigese.fr
X-WR-CALDESC:Évènements pour Afigese
REFRESH-INTERVAL;VALUE=DURATION:PT1H
X-Robots-Tag:noindex
X-PUBLISHED-TTL:PT1H
BEGIN:VTIMEZONE
TZID:Europe/Paris
BEGIN:DAYLIGHT
TZOFFSETFROM:+0100
TZOFFSETTO:+0200
TZNAME:CEST
DTSTART:20210328T010000
END:DAYLIGHT
BEGIN:STANDARD
TZOFFSETFROM:+0200
TZOFFSETTO:+0100
TZNAME:CET
DTSTART:20211031T010000
END:STANDARD
BEGIN:DAYLIGHT
TZOFFSETFROM:+0100
TZOFFSETTO:+0200
TZNAME:CEST
DTSTART:20220327T010000
END:DAYLIGHT
BEGIN:STANDARD
TZOFFSETFROM:+0200
TZOFFSETTO:+0100
TZNAME:CET
DTSTART:20221030T010000
END:STANDARD
END:VTIMEZONE
BEGIN:VEVENT
DTSTART;TZID=Europe/Paris:20210525T090000
DTEND;TZID=Europe/Paris:20210528T163000
DTSTAMP:20260425T212924
CREATED:20200525T073053Z
LAST-MODIFIED:20201208T140638Z
UID:6216-1621933200-1622219400@afigese.fr
SUMMARY:Formation : Développer des pratiques d’évaluation utiles au pilotage stratégique et opérationnel : conception\, méthode\, outils\, livrables
DESCRIPTION:FORMATION EN VISIO \nDévelopper des pratiques d’évaluation utiles au pilotage stratégique et opérationnel : conception\, méthode\, outils\, livrables \n  \nRetrouvez le programme complet de la formation et les modalités d’inscription ici.
URL:https://afigese.fr/evenement/developper-des-pratiques-devaluation-utiles-au-pilotage-strategique-et-operationnel-conception-methode-outils-livrables-2/
END:VEVENT
BEGIN:VEVENT
DTSTART;TZID=Europe/Paris:20210510T093000
DTEND;TZID=Europe/Paris:20210511T163000
DTSTAMP:20260425T212924
CREATED:20201209T112218Z
LAST-MODIFIED:20210407T092844Z
UID:6899-1620639000-1620750600@afigese.fr
SUMMARY:Formation : Optimiser la gestion des subventions des associations : de l’attribution à la lecture des comptes
DESCRIPTION:FORMATION EN VISIO \nOptimiser la gestion des subventions des associations : de l’attribution à la lecture des comptes \n  \nRetrouvez le programme complet de la formation et les modalités d’inscription ici.
URL:https://afigese.fr/evenement/optimiser-la-gestion-des-subventions-des-associations-de-lattribution-a-la-lecture-des-comptes/
END:VEVENT
BEGIN:VEVENT
DTSTART;TZID=Europe/Paris:20210505T100000
DTEND;TZID=Europe/Paris:20210505T120000
DTSTAMP:20260425T212924
CREATED:20210125T103526Z
LAST-MODIFIED:20210125T103822Z
UID:7130-1620208800-1620216000@afigese.fr
SUMMARY:GT Qualité des Comptes et Certification
DESCRIPTION:Les groupes de travail Qualité des Comptes et Certification  se réunira le mercredi 5 mai 2021 de 10h à 12h en visioconférence.  \nEn savoir plus sur le groupe. \nRenseignements à cette adresse. 
URL:https://afigese.fr/evenement/gt-qualite-des-comptes-et-certification-3/
END:VEVENT
BEGIN:VEVENT
DTSTART;TZID=Europe/Paris:20210504T100000
DTEND;TZID=Europe/Paris:20210504T120000
DTSTAMP:20260425T212924
CREATED:20210421T130400Z
LAST-MODIFIED:20210421T130642Z
UID:7648-1620122400-1620129600@afigese.fr
SUMMARY:GT Evaluation des Politiques Publiques
DESCRIPTION:Le groupe de travail Évaluation des Politiques Publiques se réunira le mardi 4 mai 2021 de 10h à 12h en visioconférence.  \nEn savoir plus sur le groupe. \nRenseignements à cette adresse.
URL:https://afigese.fr/evenement/gt-evaluation-des-politiques-publiques-3/
END:VEVENT
BEGIN:VEVENT
DTSTART;TZID=Europe/Paris:20210429T140000
DTEND;TZID=Europe/Paris:20210429T163000
DTSTAMP:20260425T212924
CREATED:20210421T130747Z
LAST-MODIFIED:20210421T130747Z
UID:7650-1619704800-1619713800@afigese.fr
SUMMARY:GT Fiscalité et Dotations
DESCRIPTION:Le groupe de travail Fiscalité et Dotations se réunira le jeudi 29 avril 2021 de 14h00 à 16h30 en visioconférence.  \nEn savoir plus sur le groupe. \nRenseignements à cette adresse. 
URL:https://afigese.fr/evenement/gt-fiscalite-et-dotations-2/
END:VEVENT
BEGIN:VEVENT
DTSTART;TZID=Europe/Paris:20210419T093000
DTEND;TZID=Europe/Paris:20210421T163000
DTSTAMP:20260425T212924
CREATED:20200127T113023Z
LAST-MODIFIED:20210329T091637Z
UID:6922-1618824600-1619022600@afigese.fr
SUMMARY:Formation : Réussir la bascule en M57
DESCRIPTION:FORMATION EN VISIO \nRéussir la bascule en M57 \n  \nRetrouvez le programme complet de la formation et les modalités d’inscription ici. \n 
URL:https://afigese.fr/evenement/formation-reussir-la-bascule-en-m57/
END:VEVENT
BEGIN:VEVENT
DTSTART;VALUE=DATE:20210408
DTEND;VALUE=DATE:20210410
DTSTAMP:20260425T212924
CREATED:20200408T082632Z
LAST-MODIFIED:20210318T093130Z
UID:7431-1617840000-1618012799@afigese.fr
SUMMARY:Formation : Réussir la mise en place de tableaux de bord
DESCRIPTION:FORMATION EN VISIO \nRéussir la mise en place de tableaux de bord \n  \nRetrouvez le programme complet de la formation et les modalités d’inscription ici.
URL:https://afigese.fr/evenement/formation-reussir-la-mise-en-place-de-tableaux-de-bord/
END:VEVENT
BEGIN:VEVENT
DTSTART;TZID=Europe/Paris:20210406T160000
DTEND;TZID=Europe/Paris:20210406T180000
DTSTAMP:20260425T212924
CREATED:20210319T155103Z
LAST-MODIFIED:20210319T155103Z
UID:7442-1617724800-1617732000@afigese.fr
SUMMARY:GT Tarification et Calcul de Coût
DESCRIPTION:Le groupe de travail Tarification et Calcul de Coût se réunira le mardi 6 avril de 16h à 18h en visioconférence.  \nEn savoir plus sur le groupe. \nRenseignements à cette adresse.
URL:https://afigese.fr/evenement/gt-tarification-et-calcul-de-cout-3/
END:VEVENT
BEGIN:VEVENT
DTSTART;TZID=Europe/Paris:20210406T140000
DTEND;TZID=Europe/Paris:20210409T163000
DTSTAMP:20260425T212924
CREATED:20200406T120006Z
LAST-MODIFIED:20201209T134951Z
UID:6209-1617717600-1617985800@afigese.fr
SUMMARY:Formation : Saisir l’opportunité de la dématérialisation pour repenser l’organisation comptable
DESCRIPTION:FORMATION EN VISIO \nSaisir l’opportunité de la dématérialisation pour repenser l’organisation comptable\n  \nRetrouvez le programme complet de la formation et les modalités d’inscription ici.
URL:https://afigese.fr/evenement/acte-ii-de-la-dematerialisation-revisiter-lorganisation-comptable-dans-un-environnement-dematerialise-plus-performant/
END:VEVENT
BEGIN:VEVENT
DTSTART;TZID=Europe/Paris:20210402T093000
DTEND;TZID=Europe/Paris:20210402T113000
DTSTAMP:20260425T212924
CREATED:20210215T091110Z
LAST-MODIFIED:20210215T091110Z
UID:7225-1617355800-1617363000@afigese.fr
SUMMARY:GT Pilotage et Outils d'Aide à la Décision
DESCRIPTION:Le groupe de travail Pilotage et Outils d’Aide à la Décision se réunira le vendredi 2 avril 2021 de 9h30 à 11h30 en visioconférence. \nEn savoir plus sur le groupe.  \nRenseignements à cette adresse. 
URL:https://afigese.fr/evenement/gt-pilotage-et-outils-daide-a-la-decision-3/
END:VEVENT
BEGIN:VEVENT
DTSTART;TZID=Europe/Paris:20210224T100000
DTEND;TZID=Europe/Paris:20210224T120000
DTSTAMP:20260425T212924
CREATED:20210209T075515Z
LAST-MODIFIED:20210209T075515Z
UID:7199-1614160800-1614168000@afigese.fr
SUMMARY:GT Qualité des Comptes et Certification
DESCRIPTION:Le groupe de travail Qualité des Comptes et Certification se réunira le mercredi 24 février 2021 de 10h à 12h en visioconférence.  \nEn savoir plus sur le groupe. \nRenseignements à cette adresse.
URL:https://afigese.fr/evenement/gt-qualite-des-comptes-et-certification-4/
END:VEVENT
BEGIN:VEVENT
DTSTART;TZID=Europe/Paris:20210224T100000
DTEND;TZID=Europe/Paris:20210224T120000
DTSTAMP:20260425T212924
CREATED:20210125T103431Z
LAST-MODIFIED:20210125T103431Z
UID:7128-1614160800-1614168000@afigese.fr
SUMMARY:GT Qualité des Comptes et Certification
DESCRIPTION:Les groupes de travail Qualité des Comptes et Certification  se réunira mercredi 24 février 2021 de 10h à 12h en visioconférence.  \nEn savoir plus sur le groupe. \nRenseignements à cette adresse. 
URL:https://afigese.fr/evenement/gt-qualite-des-comptes-et-certification-2/
END:VEVENT
BEGIN:VEVENT
DTSTART;VALUE=DATE:20220607
DTEND;VALUE=DATE:20220610
DTSTAMP:20260425T212924
CREATED:20220330T070854Z
LAST-MODIFIED:20220330T070855Z
UID:9421-1654560000-1654819199@afigese.fr
SUMMARY:La cartographie des risques
DESCRIPTION:FORMATION EN VISIO \nLa cartographie des risques \n  \nRetrouvez le programme complet de la formation et les modalités d’inscription ici.
URL:https://afigese.fr/evenement/la-cartographie-des-risques-5/
LOCATION:Untitled
END:VEVENT
BEGIN:VEVENT
DTSTART;VALUE=DATE:20220607
DTEND;VALUE=DATE:20220610
DTSTAMP:20260425T212924
CREATED:20220330T070854Z
LAST-MODIFIED:20220330T070855Z
UID:9421-1654560000-1654819199@afigese.fr
SUMMARY:La cartographie des risques
DESCRIPTION:FORMATION EN VISIO \nLa cartographie des risques \n  \nRetrouvez le programme complet de la formation et les modalités d’inscription ici.
URL:https://afigese.fr/evenement/la-cartographie-des-risques-5/
LOCATION:Untitled
END:VEVENT
BEGIN:VEVENT
DTSTART;VALUE=DATE:20220607
DTEND;VALUE=DATE:20220610
DTSTAMP:20260425T212924
CREATED:20220330T070854Z
LAST-MODIFIED:20220330T070855Z
UID:9421-1654560000-1654819199@afigese.fr
SUMMARY:La cartographie des risques
DESCRIPTION:FORMATION EN VISIO \nLa cartographie des risques \n  \nRetrouvez le programme complet de la formation et les modalités d’inscription ici.
URL:https://afigese.fr/evenement/la-cartographie-des-risques-5/
LOCATION:Untitled
END:VEVENT
BEGIN:VEVENT
DTSTART;VALUE=DATE:20220607
DTEND;VALUE=DATE:20220610
DTSTAMP:20260425T212924
CREATED:20220330T070854Z
LAST-MODIFIED:20220330T070855Z
UID:9421-1654560000-1654819199@afigese.fr
SUMMARY:La cartographie des risques
DESCRIPTION:FORMATION EN VISIO \nLa cartographie des risques \n  \nRetrouvez le programme complet de la formation et les modalités d’inscription ici.
URL:https://afigese.fr/evenement/la-cartographie-des-risques-5/
LOCATION:Untitled
END:VEVENT
BEGIN:VEVENT
DTSTART;VALUE=DATE:20220607
DTEND;VALUE=DATE:20220610
DTSTAMP:20260425T212924
CREATED:20220330T070854Z
LAST-MODIFIED:20220330T070855Z
UID:9421-1654560000-1654819199@afigese.fr
SUMMARY:La cartographie des risques
DESCRIPTION:FORMATION EN VISIO \nLa cartographie des risques \n  \nRetrouvez le programme complet de la formation et les modalités d’inscription ici.
URL:https://afigese.fr/evenement/la-cartographie-des-risques-5/
LOCATION:Untitled
END:VEVENT
BEGIN:VEVENT
DTSTART;VALUE=DATE:20220607
DTEND;VALUE=DATE:20220610
DTSTAMP:20260425T212924
CREATED:20220330T070854Z
LAST-MODIFIED:20220330T070855Z
UID:9421-1654560000-1654819199@afigese.fr
SUMMARY:La cartographie des risques
DESCRIPTION:FORMATION EN VISIO \nLa cartographie des risques \n  \nRetrouvez le programme complet de la formation et les modalités d’inscription ici.
URL:https://afigese.fr/evenement/la-cartographie-des-risques-5/
LOCATION:Untitled
END:VEVENT
BEGIN:VEVENT
DTSTART;VALUE=DATE:20220607
DTEND;VALUE=DATE:20220610
DTSTAMP:20260425T212924
CREATED:20220330T070854Z
LAST-MODIFIED:20220330T070855Z
UID:9421-1654560000-1654819199@afigese.fr
SUMMARY:La cartographie des risques
DESCRIPTION:FORMATION EN VISIO \nLa cartographie des risques \n  \nRetrouvez le programme complet de la formation et les modalités d’inscription ici.
URL:https://afigese.fr/evenement/la-cartographie-des-risques-5/
LOCATION:Untitled
END:VEVENT
BEGIN:VEVENT
DTSTART;VALUE=DATE:20220607
DTEND;VALUE=DATE:20220610
DTSTAMP:20260425T212924
CREATED:20220330T070854Z
LAST-MODIFIED:20220330T070855Z
UID:9421-1654560000-1654819199@afigese.fr
SUMMARY:La cartographie des risques
DESCRIPTION:FORMATION EN VISIO \nLa cartographie des risques \n  \nRetrouvez le programme complet de la formation et les modalités d’inscription ici.
URL:https://afigese.fr/evenement/la-cartographie-des-risques-5/
LOCATION:Untitled
END:VEVENT
BEGIN:VEVENT
DTSTART;VALUE=DATE:20220607
DTEND;VALUE=DATE:20220610
DTSTAMP:20260425T212924
CREATED:20220330T070854Z
LAST-MODIFIED:20220330T070855Z
UID:9421-1654560000-1654819199@afigese.fr
SUMMARY:La cartographie des risques
DESCRIPTION:FORMATION EN VISIO \nLa cartographie des risques \n  \nRetrouvez le programme complet de la formation et les modalités d’inscription ici.
URL:https://afigese.fr/evenement/la-cartographie-des-risques-5/
LOCATION:Untitled
END:VEVENT
BEGIN:VEVENT
DTSTART;VALUE=DATE:20220607
DTEND;VALUE=DATE:20220610
DTSTAMP:20260425T212924
CREATED:20220330T070854Z
LAST-MODIFIED:20220330T070855Z
UID:9421-1654560000-1654819199@afigese.fr
SUMMARY:La cartographie des risques
DESCRIPTION:FORMATION EN VISIO \nLa cartographie des risques \n  \nRetrouvez le programme complet de la formation et les modalités d’inscription ici.
URL:https://afigese.fr/evenement/la-cartographie-des-risques-5/
LOCATION:Untitled
END:VEVENT
BEGIN:VEVENT
DTSTART;VALUE=DATE:20220607
DTEND;VALUE=DATE:20220610
DTSTAMP:20260425T212924
CREATED:20220330T070854Z
LAST-MODIFIED:20220330T070855Z
UID:9421-1654560000-1654819199@afigese.fr
SUMMARY:La cartographie des risques
DESCRIPTION:FORMATION EN VISIO \nLa cartographie des risques \n  \nRetrouvez le programme complet de la formation et les modalités d’inscription ici.
URL:https://afigese.fr/evenement/la-cartographie-des-risques-5/
LOCATION:Untitled
END:VEVENT
BEGIN:VEVENT
DTSTART;VALUE=DATE:20220607
DTEND;VALUE=DATE:20220610
DTSTAMP:20260425T212924
CREATED:20220330T070854Z
LAST-MODIFIED:20220330T070855Z
UID:9421-1654560000-1654819199@afigese.fr
SUMMARY:La cartographie des risques
DESCRIPTION:FORMATION EN VISIO \nLa cartographie des risques \n  \nRetrouvez le programme complet de la formation et les modalités d’inscription ici.
URL:https://afigese.fr/evenement/la-cartographie-des-risques-5/
LOCATION:Untitled
END:VEVENT
BEGIN:VEVENT
DTSTART;VALUE=DATE:20220607
DTEND;VALUE=DATE:20220610
DTSTAMP:20260425T212924
CREATED:20220330T070854Z
LAST-MODIFIED:20220330T070855Z
UID:9421-1654560000-1654819199@afigese.fr
SUMMARY:La cartographie des risques
DESCRIPTION:FORMATION EN VISIO \nLa cartographie des risques \n  \nRetrouvez le programme complet de la formation et les modalités d’inscription ici.
URL:https://afigese.fr/evenement/la-cartographie-des-risques-5/
LOCATION:Untitled
END:VEVENT
BEGIN:VEVENT
DTSTART;VALUE=DATE:20220607
DTEND;VALUE=DATE:20220610
DTSTAMP:20260425T212924
CREATED:20220330T070854Z
LAST-MODIFIED:20220330T070855Z
UID:9421-1654560000-1654819199@afigese.fr
SUMMARY:La cartographie des risques
DESCRIPTION:FORMATION EN VISIO \nLa cartographie des risques \n  \nRetrouvez le programme complet de la formation et les modalités d’inscription ici.
URL:https://afigese.fr/evenement/la-cartographie-des-risques-5/
LOCATION:Untitled
END:VEVENT
BEGIN:VEVENT
DTSTART;VALUE=DATE:20220607
DTEND;VALUE=DATE:20220610
DTSTAMP:20260425T212924
CREATED:20220330T070854Z
LAST-MODIFIED:20220330T070855Z
UID:9421-1654560000-1654819199@afigese.fr
SUMMARY:La cartographie des risques
DESCRIPTION:FORMATION EN VISIO \nLa cartographie des risques \n  \nRetrouvez le programme complet de la formation et les modalités d’inscription ici.
URL:https://afigese.fr/evenement/la-cartographie-des-risques-5/
LOCATION:Untitled
END:VEVENT
BEGIN:VEVENT
DTSTART;VALUE=DATE:20220607
DTEND;VALUE=DATE:20220610
DTSTAMP:20260425T212924
CREATED:20220330T070854Z
LAST-MODIFIED:20220330T070855Z
UID:9421-1654560000-1654819199@afigese.fr
SUMMARY:La cartographie des risques
DESCRIPTION:FORMATION EN VISIO \nLa cartographie des risques \n  \nRetrouvez le programme complet de la formation et les modalités d’inscription ici.
URL:https://afigese.fr/evenement/la-cartographie-des-risques-5/
LOCATION:Untitled
END:VEVENT
BEGIN:VEVENT
DTSTART;VALUE=DATE:20220607
DTEND;VALUE=DATE:20220610
DTSTAMP:20260425T212924
CREATED:20220330T070854Z
LAST-MODIFIED:20220330T070855Z
UID:9421-1654560000-1654819199@afigese.fr
SUMMARY:La cartographie des risques
DESCRIPTION:FORMATION EN VISIO \nLa cartographie des risques \n  \nRetrouvez le programme complet de la formation et les modalités d’inscription ici.
URL:https://afigese.fr/evenement/la-cartographie-des-risques-5/
LOCATION:Untitled
END:VEVENT
BEGIN:VEVENT
DTSTART;VALUE=DATE:20220607
DTEND;VALUE=DATE:20220610
DTSTAMP:20260425T212924
CREATED:20220330T070854Z
LAST-MODIFIED:20220330T070855Z
UID:9421-1654560000-1654819199@afigese.fr
SUMMARY:La cartographie des risques
DESCRIPTION:FORMATION EN VISIO \nLa cartographie des risques \n  \nRetrouvez le programme complet de la formation et les modalités d’inscription ici.
URL:https://afigese.fr/evenement/la-cartographie-des-risques-5/
LOCATION:Untitled
END:VEVENT
END:VCALENDAR