BEGIN:VCALENDAR
VERSION:2.0
PRODID:-//Afigese - ECPv6.10.3//NONSGML v1.0//EN
CALSCALE:GREGORIAN
METHOD:PUBLISH
X-WR-CALNAME:Afigese
X-ORIGINAL-URL:https://afigese.fr
X-WR-CALDESC:Évènements pour Afigese
REFRESH-INTERVAL;VALUE=DURATION:PT1H
X-Robots-Tag:noindex
X-PUBLISHED-TTL:PT1H
BEGIN:VTIMEZONE
TZID:Europe/Paris
BEGIN:DAYLIGHT
TZOFFSETFROM:+0100
TZOFFSETTO:+0200
TZNAME:CEST
DTSTART:20240331T010000
END:DAYLIGHT
BEGIN:STANDARD
TZOFFSETFROM:+0200
TZOFFSETTO:+0100
TZNAME:CET
DTSTART:20241027T010000
END:STANDARD
END:VTIMEZONE
BEGIN:VEVENT
DTSTART;TZID=Europe/Paris:20241202T080000
DTEND;TZID=Europe/Paris:20241202T170000
DTSTAMP:20260424T012807
CREATED:20241115T081126Z
LAST-MODIFIED:20241115T085226Z
UID:13521-1733126400-1733158800@afigese.fr
SUMMARY:Réunion du groupe de travail "Pilotage de la Transition Ecologique"
DESCRIPTION:
URL:https://afigese.fr/evenement/reunion-du-groupe-de-travail-pilotage-de-la-transition-ecologique-2/
CATEGORIES:Groupes de travail
ATTACH;FMTTYPE=image/png:https://afigese.fr/wp-content/uploads/2024/11/Bandeau-reunion-GT-2025.png
END:VEVENT
BEGIN:VEVENT
DTSTART;TZID=Europe/Paris:20241203T080000
DTEND;TZID=Europe/Paris:20241203T170000
DTSTAMP:20260424T012807
CREATED:20241115T081157Z
LAST-MODIFIED:20241115T085208Z
UID:13523-1733212800-1733245200@afigese.fr
SUMMARY:Réunion du groupe de travail "Fiscalité et dotations"
DESCRIPTION:
URL:https://afigese.fr/evenement/reunion-du-groupe-de-travail-fiscalite-et-dotations/
CATEGORIES:Groupes de travail
ATTACH;FMTTYPE=image/png:https://afigese.fr/wp-content/uploads/2024/11/Bandeau-reunion-GT-2025.png
END:VEVENT
BEGIN:VEVENT
DTSTART;VALUE=DATE:20241204
DTEND;VALUE=DATE:20241205
DTSTAMP:20260424T012807
CREATED:20241114T153008Z
LAST-MODIFIED:20241114T153008Z
UID:13513-1733270400-1733356799@afigese.fr
SUMMARY:Bureau et Conseil d'administration
DESCRIPTION:Réunion du Bureau et du Conseil d’administration de l’AFIGESE
URL:https://afigese.fr/evenement/bureau-et-conseil-dadministration-2/
LOCATION:Saint-Denis\, Ile-de-France
CATEGORIES:BUREAU
END:VEVENT
BEGIN:VEVENT
DTSTART;VALUE=DATE:20241205
DTEND;VALUE=DATE:20241206
DTSTAMP:20260424T012807
CREATED:20241115T105119Z
LAST-MODIFIED:20241115T105218Z
UID:13531-1733356800-1733443199@afigese.fr
SUMMARY:Colloque Réseau FIL
DESCRIPTION:Le réseau FIL organise un colloque le 5 décembre prochain « FINANCES LOCALES\, \nactualité et enjeux » qui se tiendra à Paris dont vous trouverez le programme ci-joint. \nDes questions au cœur de nos sujets y seront abordées par des experts.  \nInscription gratuite mais OBLIGATOIRE avec le lien suivant : \n https://forms.gle/K7tW3i9Gg7HPCffFA
URL:https://afigese.fr/evenement/colloque-reseau-fil/
LOCATION:PARIS\, PARIS\, France
CATEGORIES:Colloques
ATTACH;FMTTYPE=image/png:https://afigese.fr/wp-content/uploads/2020/12/Reseau-FIL.png
GEO:48.856614;2.3522219
END:VEVENT
BEGIN:VEVENT
DTSTART;VALUE=DATE:20241209
DTEND;VALUE=DATE:20241211
DTSTAMP:20260424T012807
CREATED:20240528T090915Z
LAST-MODIFIED:20240528T090915Z
UID:12944-1733702400-1733875199@afigese.fr
SUMMARY:Concevoir\, négocier\, piloter et contrôler une Délégation de Service Public
DESCRIPTION:FORMATION EN PRESENTIEL\, A PARIS \nConcevoir\, négocier\, piloter et contrôler une Délégation de Service Public \n  \nRetrouvez le programme complet de la formation et les modalités d’inscription ici.
URL:https://afigese.fr/evenement/concevoir-negocier-piloter-et-controler-une-delegation-de-service-public-5/
LOCATION:Saint-Denis\, Ile-de-France
CATEGORIES:Formations
END:VEVENT
BEGIN:VEVENT
DTSTART;VALUE=DATE:20241211
DTEND;VALUE=DATE:20241213
DTSTAMP:20260424T012807
CREATED:20240528T091046Z
LAST-MODIFIED:20240528T091046Z
UID:12946-1733875200-1734047999@afigese.fr
SUMMARY:Mettre en place un pilotage et un suivi des Syndicats d’Economie Mixte et des Sociétés Publiques Locales
DESCRIPTION:FORMATION EN PRESENTIEL\, A PARIS \nMettre en place un pilotage et un suivi des Syndicats d’Economie Mixte et des Sociétés Publiques Locales \n  \nRetrouvez le programme complet de la formation et les modalités d’inscription ici.
URL:https://afigese.fr/evenement/mettre-en-place-un-pilotage-et-un-suivi-des-syndicats-deconomie-mixte-et-des-societes-publiques-locales-2/
LOCATION:Saint-Denis\, Ile-de-France
CATEGORIES:Formations
END:VEVENT
BEGIN:VEVENT
DTSTART;TZID=Europe/Paris:20241211T080000
DTEND;TZID=Europe/Paris:20241211T170000
DTSTAMP:20260424T012807
CREATED:20241115T081239Z
LAST-MODIFIED:20241115T085145Z
UID:13525-1733904000-1733936400@afigese.fr
SUMMARY:Réunion du groupe de travail "Contrôle de gestion externe"
DESCRIPTION:
URL:https://afigese.fr/evenement/reunion-du-groupe-de-travail-controle-de-gestion-externe-2/
CATEGORIES:Groupes de travail
ATTACH;FMTTYPE=image/png:https://afigese.fr/wp-content/uploads/2024/11/Bandeau-reunion-GT-2025.png
END:VEVENT
BEGIN:VEVENT
DTSTART;VALUE=DATE:20241213
DTEND;VALUE=DATE:20241214
DTSTAMP:20260424T012807
CREATED:20240528T091729Z
LAST-MODIFIED:20240528T091729Z
UID:12948-1734048000-1734134399@afigese.fr
SUMMARY:Mettre en place un suivi des structures publiques de coopération : syndicats mixtes\, GIP\, et autres
DESCRIPTION:FORMATION EN PRESENTIEL\, A PARIS \nMettre en place un suivi des structures publiques de coopération : syndicats mixtes\, GIP\, et autres \n  \nRetrouvez le programme complet de la formation et les modalités d’inscription ici.
URL:https://afigese.fr/evenement/mettre-en-place-un-suivi-des-structures-publiques-de-cooperation-syndicats-mixtes-gip-et-autres/
LOCATION:Saint-Denis\, Ile-de-France
CATEGORIES:Formations
END:VEVENT
END:VCALENDAR