BEGIN:VCALENDAR
VERSION:2.0
PRODID:-//Afigese - ECPv6.10.3//NONSGML v1.0//EN
CALSCALE:GREGORIAN
METHOD:PUBLISH
X-ORIGINAL-URL:https://afigese.fr
X-WR-CALDESC:Évènements pour Afigese
REFRESH-INTERVAL;VALUE=DURATION:PT1H
X-Robots-Tag:noindex
X-PUBLISHED-TTL:PT1H
BEGIN:VTIMEZONE
TZID:Europe/Paris
BEGIN:DAYLIGHT
TZOFFSETFROM:+0100
TZOFFSETTO:+0200
TZNAME:CEST
DTSTART:20240331T010000
END:DAYLIGHT
BEGIN:STANDARD
TZOFFSETFROM:+0200
TZOFFSETTO:+0100
TZNAME:CET
DTSTART:20241027T010000
END:STANDARD
END:VTIMEZONE
BEGIN:VEVENT
DTSTART;VALUE=DATE:20241107
DTEND;VALUE=DATE:20241109
DTSTAMP:20260424T012927
CREATED:20240528T090029Z
LAST-MODIFIED:20240528T090029Z
UID:12935-1730937600-1731110399@afigese.fr
SUMMARY:Comment structurer une démarche de pilotage et mettre en synergie les fonctions et les métiers de l’aide à la décision ?
DESCRIPTION:FORMATION EN PRESENTIEL\, PARIS \nComment structurer une démarche de pilotage et mettre en synergie les fonctions et les métiers de l’aide à la décision ? \n  \nRetrouvez le programme complet de la formation et les modalités d’inscription ici.
URL:https://afigese.fr/evenement/comment-structurer-une-demarche-de-pilotage-et-mettre-en-synergie-les-fonctions-et-les-metiers-de-laide-a-la-decision-3/
LOCATION:Saint-Denis\, Ile-de-France
CATEGORIES:Formations
END:VEVENT
BEGIN:VEVENT
DTSTART;TZID=Europe/Paris:20241112T130000
DTEND;TZID=Europe/Paris:20241114T170000
DTSTAMP:20260424T012927
CREATED:20240528T090219Z
LAST-MODIFIED:20240528T090219Z
UID:12937-1731416400-1731603600@afigese.fr
SUMMARY:La cartographie des risques
DESCRIPTION:FORMATION EN VISIO \nLa cartographie des risques \n  \nRetrouvez le programme complet de la formation et les modalités d’inscription ici.
URL:https://afigese.fr/evenement/la-cartographie-des-risques-11/
LOCATION:à distance
CATEGORIES:Formations
END:VEVENT
BEGIN:VEVENT
DTSTART;VALUE=DATE:20241114
DTEND;VALUE=DATE:20241116
DTSTAMP:20260424T012927
CREATED:20240528T090422Z
LAST-MODIFIED:20240528T090422Z
UID:12939-1731542400-1731715199@afigese.fr
SUMMARY:La qualité comptable enjeu de maîtrise de la dépense et prérequis à la certification des comptes
DESCRIPTION:FORMATION EN PRESENTIEL\, A LYON \nLa qualité comptable enjeu de maîtrise de la dépense et prérequis à la certification des comptes \n  \nRetrouvez le programme complet de la formation et les modalités d’inscription ici.
URL:https://afigese.fr/evenement/la-qualite-comptable-enjeu-de-maitrise-de-la-depense-et-prerequis-a-la-certification-des-comptes-8/
LOCATION:LYON\, LYON\, 69000\, France
CATEGORIES:Formations
GEO:45.764043;4.835659
END:VEVENT
BEGIN:VEVENT
DTSTART;VALUE=DATE:20241120
DTEND;VALUE=DATE:20241122
DTSTAMP:20260424T012927
CREATED:20240528T090625Z
LAST-MODIFIED:20240528T090625Z
UID:12941-1732060800-1732233599@afigese.fr
SUMMARY:Développer des pratiques d’évaluation utiles au pilotage stratégique et opérationnel : conception\, méthode\, outils\, livrables
DESCRIPTION:FORMATION EN PRESENTIEL\, A PARIS \nDévelopper des pratiques d’évaluation utiles au pilotage stratégique et opérationnel : conception\, méthode\, outils\, livrables \n  \nRetrouvez le programme complet de la formation et les modalités d’inscription ici.
URL:https://afigese.fr/evenement/developper-des-pratiques-devaluation-utiles-au-pilotage-strategique-et-operationnel-conception-methode-outils-livrables-8/
LOCATION:Saint-Denis\, Ile-de-France
CATEGORIES:Formations
END:VEVENT
BEGIN:VEVENT
DTSTART;TZID=Europe/Paris:20241122T080000
DTEND;TZID=Europe/Paris:20241122T170000
DTSTAMP:20260424T012927
CREATED:20241115T080821Z
LAST-MODIFIED:20241115T085351Z
UID:13515-1732262400-1732294800@afigese.fr
SUMMARY:Réunion du groupe de travail "Contrôle de gestion externe"
DESCRIPTION:
URL:https://afigese.fr/evenement/reunion-du-groupe-de-travail-controle-de-gestion-externe/
CATEGORIES:Groupes de travail
ATTACH;FMTTYPE=image/png:https://afigese.fr/wp-content/uploads/2024/11/Bandeau-reunion-GT-2025.png
END:VEVENT
BEGIN:VEVENT
DTSTART;TZID=Europe/Paris:20241125T080000
DTEND;TZID=Europe/Paris:20241125T170000
DTSTAMP:20260424T012927
CREATED:20241115T080910Z
LAST-MODIFIED:20241115T085325Z
UID:13517-1732521600-1732554000@afigese.fr
SUMMARY:Réunion du groupe de travail "Qualité des comptes et certification"
DESCRIPTION:
URL:https://afigese.fr/evenement/reunion-du-groupe-de-travail-qualite-des-comptes-et-certification/
CATEGORIES:Groupes de travail
ATTACH;FMTTYPE=image/png:https://afigese.fr/wp-content/uploads/2024/11/Bandeau-reunion-GT-2025.png
END:VEVENT
BEGIN:VEVENT
DTSTART;TZID=Europe/Paris:20241129T080000
DTEND;TZID=Europe/Paris:20241129T170000
DTSTAMP:20260424T012927
CREATED:20241115T080954Z
LAST-MODIFIED:20241115T085245Z
UID:13519-1732867200-1732899600@afigese.fr
SUMMARY:Réunion du groupe de travail "Pilotage de la Transition Ecologique"
DESCRIPTION:
URL:https://afigese.fr/evenement/reunion-du-groupe-de-travail-pilotage-de-la-transition-ecologique/
CATEGORIES:Groupes de travail
ATTACH;FMTTYPE=image/png:https://afigese.fr/wp-content/uploads/2024/11/Bandeau-reunion-GT-2025.png
END:VEVENT
END:VCALENDAR