BEGIN:VCALENDAR
VERSION:2.0
PRODID:-//Afigese - ECPv6.10.3//NONSGML v1.0//EN
CALSCALE:GREGORIAN
METHOD:PUBLISH
X-ORIGINAL-URL:https://afigese.fr
X-WR-CALDESC:Évènements pour Afigese
REFRESH-INTERVAL;VALUE=DURATION:PT1H
X-Robots-Tag:noindex
X-PUBLISHED-TTL:PT1H
BEGIN:VTIMEZONE
TZID:Europe/Paris
BEGIN:DAYLIGHT
TZOFFSETFROM:+0100
TZOFFSETTO:+0200
TZNAME:CEST
DTSTART:20230326T010000
END:DAYLIGHT
BEGIN:STANDARD
TZOFFSETFROM:+0200
TZOFFSETTO:+0100
TZNAME:CET
DTSTART:20231029T010000
END:STANDARD
END:VTIMEZONE
BEGIN:VEVENT
DTSTART;VALUE=DATE:20231206
DTEND;VALUE=DATE:20231209
DTSTAMP:20260424T202332
CREATED:20221123T084748Z
LAST-MODIFIED:20230503T133930Z
UID:10610-1701820800-1702079999@afigese.fr
SUMMARY:Réussir la bascule en M57
DESCRIPTION:FORMATION EN VISIO \nRéussir la bascule en M57 \n  \nRetrouvez le programme complet de la formation et les modalités d’inscription ici.
URL:https://afigese.fr/evenement/reussir-la-bascule-en-m57-10/
LOCATION:à distance
CATEGORIES:Formations
END:VEVENT
BEGIN:VEVENT
DTSTART;TZID=Europe/Paris:20231206T093000
DTEND;TZID=Europe/Paris:20231206T170000
DTSTAMP:20260424T202332
CREATED:20230206T092954Z
LAST-MODIFIED:20230206T092954Z
UID:10925-1701855000-1701882000@afigese.fr
SUMMARY:Bureau et Conseil d'administration de l'AFIGESE
DESCRIPTION:Réunion du Bureau de l’AFIGESE le matin \nRéunion du Conseil d’administration de l’AFIGESE l’après-midi \n  \nEn présentiel
URL:https://afigese.fr/evenement/bureau-et-conseil-dadministration-de-lafigese-2/
LOCATION:Locaux AFIGESE -Saint-Denis\, 2 boulevard de la Libération\, Bâtiment B1 Seine Pleyel\, Saint-Denis\, 93200\, France
CATEGORIES:BUREAU
ATTACH;FMTTYPE=image/jpeg:https://afigese.fr/wp-content/uploads/2022/11/Bandeau-calendrier-CA-2022-scaled.jpg
GEO:48.9273012;2.3387643
X-APPLE-STRUCTURED-LOCATION;VALUE=URI;X-ADDRESS=Locaux AFIGESE -Saint-Denis 2 boulevard de la Libération Bâtiment B1 Seine Pleyel Saint-Denis 93200 France;X-APPLE-RADIUS=500;X-TITLE=2 boulevard de la Libération\, Bâtiment B1 Seine Pleyel:geo:2.3387643,48.9273012
END:VEVENT
BEGIN:VEVENT
DTSTART;VALUE=DATE:20231207
DTEND;VALUE=DATE:20231209
DTSTAMP:20260424T202332
CREATED:20231116T144333Z
LAST-MODIFIED:20231116T144333Z
UID:12114-1701907200-1702079999@afigese.fr
SUMMARY:Démarche et fondamentaux de l’évaluation des politiques publiques
DESCRIPTION:FORMATION EN PRESENTIEL\, A PARIS \nDémarche et fondamentaux de l’évaluation des politiques publiques \n  \nRetrouvez le programme complet de la formation et les modalités d’inscription ici.
URL:https://afigese.fr/evenement/demarche-et-fondamentaux-de-levaluation-des-politiques-publiques-4/
LOCATION:Saint-Denis\, Ile-de-France
CATEGORIES:Formations
END:VEVENT
BEGIN:VEVENT
DTSTART;VALUE=DATE:20231211
DTEND;VALUE=DATE:20231213
DTSTAMP:20260424T202332
CREATED:20231116T144838Z
LAST-MODIFIED:20231116T144838Z
UID:12116-1702252800-1702425599@afigese.fr
SUMMARY:Concevoir\, négocier\, piloter et contrôler une Délégation de Service Public
DESCRIPTION:FORMATION EN PRESENTIEL\, A PARIS \nConcevoir\, négocier\, piloter et contrôler une Délégation de Service Public \n  \nRetrouvez le programme complet de la formation et les modalités d’inscription ici.
URL:https://afigese.fr/evenement/concevoir-negocier-piloter-et-controler-une-delegation-de-service-public-4/
LOCATION:Saint-Denis\, Ile-de-France
CATEGORIES:Formations
END:VEVENT
BEGIN:VEVENT
DTSTART;VALUE=DATE:20231213
DTEND;VALUE=DATE:20231215
DTSTAMP:20260424T202332
CREATED:20231116T145350Z
LAST-MODIFIED:20231116T145439Z
UID:12118-1702425600-1702598399@afigese.fr
SUMMARY:Mettre en place un pilotage et un suivi des Syndicats d’Economie Mixte et des Sociétés Publiques Locales
DESCRIPTION:FORMATION EN PRESENTIEL\, A PARIS \nMettre en place un pilotage et un suivi des Syndicats d’Economie Mixte et des Sociétés Publiques Locales \n  \nRetrouvez le programme complet de la formation et les modalités d’inscription ici.
URL:https://afigese.fr/evenement/mettre-en-place-un-pilotage-et-un-suivi-des-syndicats-deconomie-mixte-et-des-societes-publiques-locales/
LOCATION:Saint-Denis\, Ile-de-France
CATEGORIES:Formations
END:VEVENT
BEGIN:VEVENT
DTSTART;VALUE=DATE:20231218
DTEND;VALUE=DATE:20231220
DTSTAMP:20260424T202332
CREATED:20231116T145913Z
LAST-MODIFIED:20231116T145913Z
UID:12121-1702857600-1703030399@afigese.fr
SUMMARY:Le pilotage et l’évaluation de l’action publique locale : comment diffuser des pratiques nouvelles dans son organisation ?
DESCRIPTION:FORMATION EN PRESENTIEL\, A PARIS \nLe pilotage et l’évaluation de l’action publique locale : comment diffuser des pratiques nouvelles dans son organisation ? \n  \nRetrouvez le programme complet de la formation et les modalités d’inscription ici.
URL:https://afigese.fr/evenement/le-pilotage-et-levaluation-de-laction-publique-locale-comment-diffuser-des-pratiques-nouvelles-dans-son-organisation-4/
LOCATION:Saint-Denis\, Ile-de-France
CATEGORIES:Formations
END:VEVENT
BEGIN:VEVENT
DTSTART;VALUE=DATE:20231220
DTEND;VALUE=DATE:20231222
DTSTAMP:20260424T202332
CREATED:20231116T150215Z
LAST-MODIFIED:20231213T152507Z
UID:12123-1703030400-1703203199@afigese.fr
SUMMARY:Identifier les leviers budgétaires et piloter une démarche d’optimisation
DESCRIPTION:FORMATION EN VISIO \nIdentifier les leviers budgétaires et piloter une démarche d’optimisation \n  \nRetrouvez le programme complet de la formation et les modalités d’inscription ici.
URL:https://afigese.fr/evenement/identifier-les-leviers-budgetaires-et-piloter-une-demarche-doptimisation/
LOCATION:à distance
CATEGORIES:Formations
END:VEVENT
END:VCALENDAR