BEGIN:VCALENDAR
VERSION:2.0
PRODID:-//Afigese - ECPv6.10.3//NONSGML v1.0//EN
CALSCALE:GREGORIAN
METHOD:PUBLISH
X-WR-CALNAME:Afigese
X-ORIGINAL-URL:https://afigese.fr
X-WR-CALDESC:Évènements pour Afigese
REFRESH-INTERVAL;VALUE=DURATION:PT1H
X-Robots-Tag:noindex
X-PUBLISHED-TTL:PT1H
BEGIN:VTIMEZONE
TZID:Europe/Paris
BEGIN:DAYLIGHT
TZOFFSETFROM:+0100
TZOFFSETTO:+0200
TZNAME:CEST
DTSTART:20230326T010000
END:DAYLIGHT
BEGIN:STANDARD
TZOFFSETFROM:+0200
TZOFFSETTO:+0100
TZNAME:CET
DTSTART:20231029T010000
END:STANDARD
END:VTIMEZONE
BEGIN:VEVENT
DTSTART;TZID=Europe/Paris:20231004T130000
DTEND;TZID=Europe/Paris:20231006T170000
DTSTAMP:20260424T235615
CREATED:20230707T121403Z
LAST-MODIFIED:20230707T121403Z
UID:11573-1696424400-1696611600@afigese.fr
SUMMARY:La cartographie des risques
DESCRIPTION:FORMATION EN VISIO \nLa cartographie des risques \n  \nRetrouvez le programme complet de la formation et les modalités d’inscription ici.
URL:https://afigese.fr/evenement/la-cartographie-des-risques-8/
LOCATION:à distance
CATEGORIES:Formations
END:VEVENT
BEGIN:VEVENT
DTSTART;VALUE=DATE:20231005
DTEND;VALUE=DATE:20231007
DTSTAMP:20260424T235615
CREATED:20230707T121908Z
LAST-MODIFIED:20230707T121908Z
UID:11576-1696464000-1696636799@afigese.fr
SUMMARY:Définir la bonne stratégie de calcul de coûts et de tarification des services publics locaux
DESCRIPTION:FORMATION EN PRESENTIEL\, A PARIS \nDéfinir la bonne stratégie de calcul de coûts et de tarification des services publics locaux \n  \nRetrouvez le programme complet de la formation et les modalités d’inscription ici.
URL:https://afigese.fr/evenement/definir-la-bonne-strategie-de-calcul-de-couts-et-de-tarification-des-services-publics-locaux-2/
LOCATION:Saint-Denis\, Ile-de-France
CATEGORIES:Formations
END:VEVENT
BEGIN:VEVENT
DTSTART;TZID=Europe/Paris:20231016T130000
DTEND;TZID=Europe/Paris:20231018T170000
DTSTAMP:20260424T235615
CREATED:20230707T123016Z
LAST-MODIFIED:20230707T123204Z
UID:11582-1697461200-1697648400@afigese.fr
SUMMARY:Comprendre et anticiper les dotations communales et intercommunales
DESCRIPTION:FORMATION EN VISIO \nComprendre et anticiper les dotations communales et intercommunales \n  \nRetrouvez le programme complet de la formation et les modalités d’inscription ici.
URL:https://afigese.fr/evenement/comprendre-et-anticiper-les-dotations-communales-et-intercommunales-2/
LOCATION:à distance
CATEGORIES:Formations
END:VEVENT
BEGIN:VEVENT
DTSTART;VALUE=DATE:20231017
DTEND;VALUE=DATE:20231018
DTSTAMP:20260424T235615
CREATED:20230604T101617Z
LAST-MODIFIED:20231010T114938Z
UID:11495-1697500800-1697587199@afigese.fr
SUMMARY:Système d’information décisionnel\, tableaux de bord et datavisualisation : quels choix ?
DESCRIPTION:FORMATION EN PRESENTIEL\, A PARIS \nSystème d’information décisionnel\, tableaux de bord et datavisualisation : quels choix ? \nRetour d’expériences. \nPrésentation et analyse des offres du marché Initiation à un outil gratuit de datavisualisation \nRetrouvez le programme complet de la formation et les modalités d’inscription ici.
URL:https://afigese.fr/evenement/systeme-dinformation-decisionnel-tableaux-de-bord-et-datavisualisation-quels-choix/
CATEGORIES:Formations
END:VEVENT
BEGIN:VEVENT
DTSTART;TZID=Europe/Paris:20231026T170000
DTEND;TZID=Europe/Paris:20231026T190000
DTSTAMP:20260424T235615
CREATED:20230206T092834Z
LAST-MODIFIED:20230206T092834Z
UID:10923-1698339600-1698346800@afigese.fr
SUMMARY:Bureau de l'AFIGESE
DESCRIPTION:Réunion du Bureau de l’AFIGESE \nEn Visioconférence
URL:https://afigese.fr/evenement/bureau-de-lafigese-6/
CATEGORIES:BUREAU
ATTACH;FMTTYPE=image/jpeg:https://afigese.fr/wp-content/uploads/2022/11/Bandeau-calendrier-CA-2022-scaled.jpg
END:VEVENT
END:VCALENDAR