BEGIN:VCALENDAR
VERSION:2.0
PRODID:-//Afigese - ECPv6.10.3//NONSGML v1.0//EN
CALSCALE:GREGORIAN
METHOD:PUBLISH
X-ORIGINAL-URL:https://afigese.fr
X-WR-CALDESC:Évènements pour Afigese
REFRESH-INTERVAL;VALUE=DURATION:PT1H
X-Robots-Tag:noindex
X-PUBLISHED-TTL:PT1H
BEGIN:VTIMEZONE
TZID:Europe/Paris
BEGIN:DAYLIGHT
TZOFFSETFROM:+0100
TZOFFSETTO:+0200
TZNAME:CEST
DTSTART:20220327T010000
END:DAYLIGHT
BEGIN:STANDARD
TZOFFSETFROM:+0200
TZOFFSETTO:+0100
TZNAME:CET
DTSTART:20221030T010000
END:STANDARD
END:VTIMEZONE
BEGIN:VEVENT
DTSTART;TZID=Europe/Paris:20221206T100000
DTEND;TZID=Europe/Paris:20221206T163000
DTSTAMP:20260425T170233
CREATED:20221013T110314Z
LAST-MODIFIED:20221013T131759Z
UID:10373-1670320800-1670344200@afigese.fr
SUMMARY:GT Qualité des Comptes et Certification
DESCRIPTION:Le groupe de travail Qualité des Comptes et Certification se réunira le mardi 6 décembre de 10h à 16h30 en présentiel dans nos locaux : \n2 boulevard de la Libération\, dans l’immeuble Seine Pleyel à Saint Denis (93 200). \nEn savoir plus sur le groupe. \nRenseignements à cette adresse
URL:https://afigese.fr/evenement/gt-qualite-des-comptes-et-certification-8/
LOCATION:Saint-Denis\, Ile-de-France
CATEGORIES:Groupes de travail
ATTACH;FMTTYPE=image/png:https://afigese.fr/wp-content/uploads/2022/02/Bandeau-calendrier-GT-2022-e1644838345998.png
END:VEVENT
BEGIN:VEVENT
DTSTART;TZID=Europe/Paris:20221207T100000
DTEND;TZID=Europe/Paris:20221207T163000
DTSTAMP:20260425T170233
CREATED:20221013T131435Z
LAST-MODIFIED:20221013T131543Z
UID:10375-1670407200-1670430600@afigese.fr
SUMMARY:GT Fiscalité et Dotations
DESCRIPTION:Le groupe de travail Fiscalité et Dotations se réunira mercredi 7 décembre de 10h à 16h30 en présentiel dans nos locaux au 2 boulevard de la Libération à Saint Denis. \nEn savoir plus sur le groupe. \nRenseignements à cette adresse
URL:https://afigese.fr/evenement/gt-fiscalite-et-dotations-6/
CATEGORIES:Groupes de travail
ATTACH;FMTTYPE=image/png:https://afigese.fr/wp-content/uploads/2022/02/Bandeau-calendrier-GT-2022-e1644838345998.png
END:VEVENT
BEGIN:VEVENT
DTSTART;TZID=Europe/Paris:20221207T130000
DTEND;TZID=Europe/Paris:20221209T170000
DTSTAMP:20260425T170233
CREATED:20221122T101111Z
LAST-MODIFIED:20221122T101111Z
UID:10548-1670418000-1670605200@afigese.fr
SUMMARY:Réussir la bascule en M57
DESCRIPTION:FORMATION EN VISIO \nRéussir la bascule en M57 \n  \nRetrouvez le programme complet de la formation et les modalités d’inscription ici.
URL:https://afigese.fr/evenement/reussir-la-bascule-en-m57-5/
CATEGORIES:Formations
END:VEVENT
BEGIN:VEVENT
DTSTART;VALUE=DATE:20221208
DTEND;VALUE=DATE:20221209
DTSTAMP:20260425T170233
CREATED:20221122T104907Z
LAST-MODIFIED:20221122T104907Z
UID:10562-1670457600-1670543999@afigese.fr
SUMMARY:Réussir la mise en place d’un contrôle de gestion interne dans une collectivité locale
DESCRIPTION:FORMATION EN PRESENTIEL\, A PARIS \nRéussir la mise en place d’un contrôle de gestion interne dans une collectivité locale \n  \nRetrouvez le programme complet de la formation et les modalités d’inscription ici.
URL:https://afigese.fr/evenement/reussir-la-mise-en-place-dun-controle-de-gestion-interne-dans-une-collectivite-locale-4/
LOCATION:Saint-Denis\, Ile-de-France
CATEGORIES:Formations
END:VEVENT
BEGIN:VEVENT
DTSTART;VALUE=DATE:20221214
DTEND;VALUE=DATE:20221215
DTSTAMP:20260425T170233
CREATED:20221121T091106Z
LAST-MODIFIED:20221121T092318Z
UID:10529-1670976000-1671062399@afigese.fr
SUMMARY:Bureau et Conseil d'administration
DESCRIPTION:Bureau et Conseil d’administration de l’AFIGESE \n  \nPour toute question : email
URL:https://afigese.fr/evenement/bureau-et-conseil-dadministration/
LOCATION:Saint-Denis\, Ile-de-France
CATEGORIES:BUREAU
ATTACH;FMTTYPE=image/jpeg:https://afigese.fr/wp-content/uploads/2022/11/Bandeau-calendrier-CA-2022-scaled.jpg
END:VEVENT
BEGIN:VEVENT
DTSTART;VALUE=DATE:20221214
DTEND;VALUE=DATE:20221217
DTSTAMP:20260425T170233
CREATED:20221122T105454Z
LAST-MODIFIED:20221122T105454Z
UID:10568-1670976000-1671235199@afigese.fr
SUMMARY:La cartographie des risques
DESCRIPTION:FORMATION EN VISIO \nLa cartographie des risques \n  \nRetrouvez le programme complet de la formation et les modalités d’inscription ici.
URL:https://afigese.fr/evenement/la-cartographie-des-risques-6/
LOCATION:à distance
CATEGORIES:Formations
END:VEVENT
END:VCALENDAR