BEGIN:VCALENDAR
VERSION:2.0
PRODID:-//Afigese - ECPv6.10.3//NONSGML v1.0//EN
CALSCALE:GREGORIAN
METHOD:PUBLISH
X-WR-CALNAME:Afigese
X-ORIGINAL-URL:https://afigese.fr
X-WR-CALDESC:Évènements pour Afigese
REFRESH-INTERVAL;VALUE=DURATION:PT1H
X-Robots-Tag:noindex
X-PUBLISHED-TTL:PT1H
BEGIN:VTIMEZONE
TZID:Europe/Paris
BEGIN:DAYLIGHT
TZOFFSETFROM:+0100
TZOFFSETTO:+0200
TZNAME:CEST
DTSTART:20230326T010000
END:DAYLIGHT
BEGIN:STANDARD
TZOFFSETFROM:+0200
TZOFFSETTO:+0100
TZNAME:CET
DTSTART:20231029T010000
END:STANDARD
END:VTIMEZONE
BEGIN:VEVENT
DTSTART;VALUE=DATE:20230421
DTEND;VALUE=DATE:20230422
DTSTAMP:20260424T142427
CREATED:20230126T141022Z
LAST-MODIFIED:20230126T141022Z
UID:10881-1682035200-1682121599@afigese.fr
SUMMARY:Rencontre d'actualité régionale à Sète - 21 avril 2023
DESCRIPTION:L’AFIGESE poursuit son tour de France et vous propose de nouvelles Rencontres d’actualité en régions pour favoriser l’échange et le partage d’expériences entre collectivités. Autour de plusieurs sujets prépondérants dans le secteur public local\, les correspondants AFIGESE de la Région Occitanie vous invitent aux : \nRencontres d’actualité de l’AFIGESE en Occitanie\nVendredi 21 avril 2023\nde 9h45 à 16h30\nAu Musée Paul Valéry\n Rue François Desnoyer\, 34200 Sète\n  \nProgramme et inscription
URL:https://afigese.fr/evenement/rencontre-dactualite-regionale-a-sete-21-avril-2023/
LOCATION:Sète\, Musée Paul Valéry\, Sète\, 34200
CATEGORIES:Journée d'Actualité
ATTACH;FMTTYPE=image/png:https://afigese.fr/wp-content/uploads/2023/01/Rencontre-actu-21-04-23-article-3.png
GEO:43.395474;3.690762
X-APPLE-STRUCTURED-LOCATION;VALUE=URI;X-ADDRESS=Sète Musée Paul Valéry Sète 34200;X-APPLE-RADIUS=500;X-TITLE=Musée Paul Valéry:geo:3.690762,43.395474
END:VEVENT
END:VCALENDAR