BEGIN:VCALENDAR
VERSION:2.0
PRODID:-//Afigese - ECPv6.10.3//NONSGML v1.0//EN
CALSCALE:GREGORIAN
METHOD:PUBLISH
X-ORIGINAL-URL:https://afigese.fr
X-WR-CALDESC:Évènements pour Afigese
REFRESH-INTERVAL;VALUE=DURATION:PT1H
X-Robots-Tag:noindex
X-PUBLISHED-TTL:PT1H
BEGIN:VTIMEZONE
TZID:Europe/Paris
BEGIN:DAYLIGHT
TZOFFSETFROM:+0100
TZOFFSETTO:+0200
TZNAME:CEST
DTSTART:20250330T010000
END:DAYLIGHT
BEGIN:STANDARD
TZOFFSETFROM:+0200
TZOFFSETTO:+0100
TZNAME:CET
DTSTART:20251026T010000
END:STANDARD
END:VTIMEZONE
BEGIN:VEVENT
DTSTART;TZID=Europe/Paris:20250321T090000
DTEND;TZID=Europe/Paris:20250321T163000
DTSTAMP:20260420T201241
CREATED:20241021T142344Z
LAST-MODIFIED:20250225T095628Z
UID:13407-1742547600-1742574600@afigese.fr
SUMMARY:Rencontre d'actualité à Bordeaux
DESCRIPTION:Le 21 mars prochain\, se tiendra une nouvelle Rencontre d’actualité régionale à Bordeaux\, dans la belle région Nouvelle Aquitaine. \nL’AFIGESE poursuit son tour de France et vous propose de nouvelles Rencontres d’actualité en régions pour favoriser l’échange et le partage d’expériences entre collectivités. Autour de plusieurs sujets prépondérants dans le secteur public local\, les correspondants AFIGESE de la Région Nouvelle Aquitaine vous invitent le : \nVendredi 21 mars 2025\nde 9h00 à 16h30\nHôtel de Région\n14 rue François de Sourdis\n33000 Bordeaux\n  \nToutes les infos
URL:https://afigese.fr/evenement/rencontre-dactualite-a-bordeaux/
LOCATION:Hôtel de Région Bordeaux\, 14 rue François de Sourdis\, Bordeaux\, 33000\, France
CATEGORIES:Journée d'Actualité
ATTACH;FMTTYPE=image/jpeg:https://afigese.fr/wp-content/uploads/2024/10/669e7bed3c0957f113ff469f_Les-meilleurs-quartiers-de-Bordeaux.jpg
GEO:44.8366393;-0.5887742
X-APPLE-STRUCTURED-LOCATION;VALUE=URI;X-ADDRESS=Hôtel de Région Bordeaux 14 rue François de Sourdis Bordeaux 33000 France;X-APPLE-RADIUS=500;X-TITLE=14 rue François de Sourdis:geo:-0.5887742,44.8366393
END:VEVENT
END:VCALENDAR