BEGIN:VCALENDAR
VERSION:2.0
PRODID:-//Afigese - ECPv6.10.3//NONSGML v1.0//EN
CALSCALE:GREGORIAN
METHOD:PUBLISH
X-ORIGINAL-URL:https://afigese.fr
X-WR-CALDESC:Évènements pour Afigese
REFRESH-INTERVAL;VALUE=DURATION:PT1H
X-Robots-Tag:noindex
X-PUBLISHED-TTL:PT1H
BEGIN:VTIMEZONE
TZID:Europe/Paris
BEGIN:DAYLIGHT
TZOFFSETFROM:+0100
TZOFFSETTO:+0200
TZNAME:CEST
DTSTART:20230326T010000
END:DAYLIGHT
BEGIN:STANDARD
TZOFFSETFROM:+0200
TZOFFSETTO:+0100
TZNAME:CET
DTSTART:20231029T010000
END:STANDARD
END:VTIMEZONE
BEGIN:VEVENT
DTSTART;TZID=Europe/Paris:20230201T140000
DTEND;TZID=Europe/Paris:20230201T150000
DTSTAMP:20260423T193618
CREATED:20230126T104354Z
LAST-MODIFIED:20230126T105811Z
UID:10843-1675260000-1675263600@afigese.fr
SUMMARY:GT Dettes et Financements de Projets
DESCRIPTION:Le groupe de travail Dette et Financement de projets se réunira le mardi 1er février 2023 de 14h à 15h en visioconférence.  \nEn savoir plus sur le groupe Dette et financement de projets. \nRenseignements à cette adresse.
URL:https://afigese.fr/evenement/10843/
LOCATION:à distance
CATEGORIES:Groupes de travail
ATTACH;FMTTYPE=image/png:https://afigese.fr/wp-content/uploads/2021/11/Bandeau-calendrier-GT-visio-2022-e1643022501728.png
END:VEVENT
END:VCALENDAR