BEGIN:VCALENDAR
VERSION:2.0
PRODID:-//Afigese - ECPv6.10.3//NONSGML v1.0//EN
CALSCALE:GREGORIAN
METHOD:PUBLISH
X-WR-CALNAME:Afigese
X-ORIGINAL-URL:https://afigese.fr
X-WR-CALDESC:Évènements pour Afigese
REFRESH-INTERVAL;VALUE=DURATION:PT1H
X-Robots-Tag:noindex
X-PUBLISHED-TTL:PT1H
BEGIN:VTIMEZONE
TZID:Europe/Paris
BEGIN:DAYLIGHT
TZOFFSETFROM:+0100
TZOFFSETTO:+0200
TZNAME:CEST
DTSTART:20220327T010000
END:DAYLIGHT
BEGIN:STANDARD
TZOFFSETFROM:+0200
TZOFFSETTO:+0100
TZNAME:CET
DTSTART:20221030T010000
END:STANDARD
END:VTIMEZONE
BEGIN:VEVENT
DTSTART;TZID=Europe/Paris:20220401T093000
DTEND;TZID=Europe/Paris:20220401T113000
DTSTAMP:20260424T111500
CREATED:20220307T153450Z
LAST-MODIFIED:20220317T111628Z
UID:9307-1648805400-1648812600@afigese.fr
SUMMARY:GT Pilotage et Outils d’Aide à la Décision
DESCRIPTION:Le groupe de travail Pilotage et Outils d’Aide à la Décision se réunira le vendredi 1er avril 2022 de 9h30 à 11h30 en visioconférence. \nEn savoir plus sur le groupe.  \nRenseignements à cette adresse. 
URL:https://afigese.fr/evenement/gt-pilotage-et-outils-daide-a-la-decision-7/
CATEGORIES:Groupes de travail
ATTACH;FMTTYPE=image/png:https://afigese.fr/wp-content/uploads/2021/11/Bandeau-calendrier-GT-visio-2022-e1643022501728.png
END:VEVENT
END:VCALENDAR