BEGIN:VCALENDAR
VERSION:2.0
PRODID:-//Afigese - ECPv6.10.3//NONSGML v1.0//EN
CALSCALE:GREGORIAN
METHOD:PUBLISH
X-ORIGINAL-URL:https://afigese.fr
X-WR-CALDESC:Évènements pour Afigese
REFRESH-INTERVAL;VALUE=DURATION:PT1H
X-Robots-Tag:noindex
X-PUBLISHED-TTL:PT1H
BEGIN:VTIMEZONE
TZID:Europe/Paris
BEGIN:DAYLIGHT
TZOFFSETFROM:+0100
TZOFFSETTO:+0200
TZNAME:CEST
DTSTART:20220327T010000
END:DAYLIGHT
BEGIN:STANDARD
TZOFFSETFROM:+0200
TZOFFSETTO:+0100
TZNAME:CET
DTSTART:20221030T010000
END:STANDARD
END:VTIMEZONE
BEGIN:VEVENT
DTSTART;TZID=Europe/Paris:20220120T110000
DTEND;TZID=Europe/Paris:20220120T130000
DTSTAMP:20260424T164537
CREATED:20220119T090801Z
LAST-MODIFIED:20220119T090801Z
UID:8956-1642676400-1642683600@afigese.fr
SUMMARY:GT Nouveaux Périmètres
DESCRIPTION:Le groupe de travail Nouveaux Périmètres\, Transferts de Compétences et Mécanismes de Financement se réunira le jeudi 20 janvier 2022 de 11h à 13h en visioconférence. \nEn savoir plus sur le groupe. \nRenseignements à cette adresse. 
URL:https://afigese.fr/evenement/gt-nouveaux-perimetres-3/
CATEGORIES:Groupes de travail
END:VEVENT
END:VCALENDAR