BEGIN:VCALENDAR
VERSION:2.0
PRODID:-//Afigese - ECPv6.10.3//NONSGML v1.0//EN
CALSCALE:GREGORIAN
METHOD:PUBLISH
X-ORIGINAL-URL:https://afigese.fr
X-WR-CALDESC:Évènements pour Afigese
REFRESH-INTERVAL;VALUE=DURATION:PT1H
X-Robots-Tag:noindex
X-PUBLISHED-TTL:PT1H
BEGIN:VTIMEZONE
TZID:Europe/Paris
BEGIN:DAYLIGHT
TZOFFSETFROM:+0100
TZOFFSETTO:+0200
TZNAME:CEST
DTSTART:20210328T010000
END:DAYLIGHT
BEGIN:STANDARD
TZOFFSETFROM:+0200
TZOFFSETTO:+0100
TZNAME:CET
DTSTART:20211031T010000
END:STANDARD
END:VTIMEZONE
BEGIN:VEVENT
DTSTART;TZID=Europe/Paris:20210624T140000
DTEND;TZID=Europe/Paris:20210624T163000
DTSTAMP:20260425T050133
CREATED:20210611T114155Z
LAST-MODIFIED:20210611T114155Z
UID:7815-1624543200-1624552200@afigese.fr
SUMMARY:GT Fiscalité et Dotations
DESCRIPTION:Le groupe de travail Fiscalité et Dotations se réunira le jeudi 24 juin 2021 de 14h00 à 16h30 en visioconférence.  \nEn savoir plus sur le groupe. \nRenseignements à cette adresse. 
URL:https://afigese.fr/evenement/gt-fiscalite-et-dotations-3/
CATEGORIES:Groupes de travail
END:VEVENT
END:VCALENDAR