BEGIN:VCALENDAR
VERSION:2.0
PRODID:-//Afigese - ECPv6.10.3//NONSGML v1.0//EN
CALSCALE:GREGORIAN
METHOD:PUBLISH
X-ORIGINAL-URL:https://afigese.fr
X-WR-CALDESC:Évènements pour Afigese
REFRESH-INTERVAL;VALUE=DURATION:PT1H
X-Robots-Tag:noindex
X-PUBLISHED-TTL:PT1H
BEGIN:VTIMEZONE
TZID:Europe/Paris
BEGIN:DAYLIGHT
TZOFFSETFROM:+0100
TZOFFSETTO:+0200
TZNAME:CEST
DTSTART:20210328T010000
END:DAYLIGHT
BEGIN:STANDARD
TZOFFSETFROM:+0200
TZOFFSETTO:+0100
TZNAME:CET
DTSTART:20211031T010000
END:STANDARD
END:VTIMEZONE
BEGIN:VEVENT
DTSTART;TZID=Europe/Paris:20210204T160000
DTEND;TZID=Europe/Paris:20210204T180000
DTSTAMP:20260425T122333
CREATED:20210129T145202Z
LAST-MODIFIED:20210129T145202Z
UID:7143-1612454400-1612461600@afigese.fr
SUMMARY:GT Tarification et Calcul de Coût
DESCRIPTION:Le groupe de travail Tarification et Calcul de Coût se réunira le jeudi 4 février de 16h à 18h en visioconférence.  \nEn savoir plus sur le groupe. \nRenseignements à cette adresse.
URL:https://afigese.fr/evenement/gt-tarification-et-calcul-de-cout-2/
CATEGORIES:Groupes de travail
END:VEVENT
END:VCALENDAR