BEGIN:VCALENDAR
VERSION:2.0
PRODID:-//Afigese - ECPv6.10.3//NONSGML v1.0//EN
CALSCALE:GREGORIAN
METHOD:PUBLISH
X-ORIGINAL-URL:https://afigese.fr
X-WR-CALDESC:Évènements pour Afigese
REFRESH-INTERVAL;VALUE=DURATION:PT1H
X-Robots-Tag:noindex
X-PUBLISHED-TTL:PT1H
BEGIN:VTIMEZONE
TZID:Europe/Paris
BEGIN:DAYLIGHT
TZOFFSETFROM:+0100
TZOFFSETTO:+0200
TZNAME:CEST
DTSTART:20210328T010000
END:DAYLIGHT
BEGIN:STANDARD
TZOFFSETFROM:+0200
TZOFFSETTO:+0100
TZNAME:CET
DTSTART:20211031T010000
END:STANDARD
END:VTIMEZONE
BEGIN:VEVENT
DTSTART;TZID=Europe/Paris:20210129T093000
DTEND;TZID=Europe/Paris:20210129T113000
DTSTAMP:20260425T140353
CREATED:20201223T083150Z
LAST-MODIFIED:20201223T083150Z
UID:7048-1611912600-1611919800@afigese.fr
SUMMARY:GT Pilotage et Outils d'Aide à la Décision
DESCRIPTION:Le groupe de travail Pilotage et Outils d’Aide à la Décision se réunira le vendredi 29 janvier 2021 de 9h30 à 11h30 en visioconférence. \nEn savoir plus sur le groupe.  \nRenseignements à cette adresse. 
URL:https://afigese.fr/evenement/gt-pilotage-et-outils-daide-a-la-decision-2/
CATEGORIES:Groupes de travail
END:VEVENT
END:VCALENDAR