BEGIN:VCALENDAR
VERSION:2.0
PRODID:-//Afigese - ECPv6.10.3//NONSGML v1.0//EN
CALSCALE:GREGORIAN
METHOD:PUBLISH
X-ORIGINAL-URL:https://afigese.fr
X-WR-CALDESC:Évènements pour Afigese
REFRESH-INTERVAL;VALUE=DURATION:PT1H
X-Robots-Tag:noindex
X-PUBLISHED-TTL:PT1H
BEGIN:VTIMEZONE
TZID:Europe/Paris
BEGIN:DAYLIGHT
TZOFFSETFROM:+0100
TZOFFSETTO:+0200
TZNAME:CEST
DTSTART:20210328T010000
END:DAYLIGHT
BEGIN:STANDARD
TZOFFSETFROM:+0200
TZOFFSETTO:+0100
TZNAME:CET
DTSTART:20211031T010000
END:STANDARD
END:VTIMEZONE
BEGIN:VEVENT
DTSTART;TZID=Europe/Paris:20210122T143000
DTEND;TZID=Europe/Paris:20210122T163000
DTSTAMP:20260425T140431
CREATED:20210114T085216Z
LAST-MODIFIED:20210114T085216Z
UID:7106-1611325800-1611333000@afigese.fr
SUMMARY:GT Nouveaux Périmètres\, Transferts de Compétences et Mécanismes de Financement
DESCRIPTION:Le groupe de travail Nouveaux Périmètres\, Transferts de Compétences et Mécanismes de Financement se réunira le vendredi 22 janvier 2021 en visioconférence.  \nEn savoir plus sur le groupe. \nRenseignements à cette adresse. 
URL:https://afigese.fr/evenement/gt-nouveaux-perimetres-transferts-de-competences-et-mecanismes-de-financement/
CATEGORIES:Groupes de travail
END:VEVENT
END:VCALENDAR