BEGIN:VCALENDAR
VERSION:2.0
PRODID:-//Afigese - ECPv6.10.3//NONSGML v1.0//EN
CALSCALE:GREGORIAN
METHOD:PUBLISH
X-WR-CALNAME:Afigese
X-ORIGINAL-URL:https://afigese.fr
X-WR-CALDESC:Évènements pour Afigese
REFRESH-INTERVAL;VALUE=DURATION:PT1H
X-Robots-Tag:noindex
X-PUBLISHED-TTL:PT1H
BEGIN:VTIMEZONE
TZID:Europe/Paris
BEGIN:DAYLIGHT
TZOFFSETFROM:+0100
TZOFFSETTO:+0200
TZNAME:CEST
DTSTART:20210328T010000
END:DAYLIGHT
BEGIN:STANDARD
TZOFFSETFROM:+0200
TZOFFSETTO:+0100
TZNAME:CET
DTSTART:20211031T010000
END:STANDARD
END:VTIMEZONE
BEGIN:VEVENT
DTSTART;TZID=Europe/Paris:20210119T100000
DTEND;TZID=Europe/Paris:20210119T120000
DTSTAMP:20260425T140149
CREATED:20201223T083042Z
LAST-MODIFIED:20201223T083042Z
UID:7046-1611050400-1611057600@afigese.fr
SUMMARY:GT Evaluation des Politiques Publiques
DESCRIPTION:Le groupe de travail Évaluation des Politiques Publiques se réunira le mardi 19 janvier 2021 de 10h à 12h en visioconférence.  \nEn savoir plus sur le groupe. \nRenseignements à cette adresse.
URL:https://afigese.fr/evenement/gt-evaluation-des-politiques-publiques-2/
CATEGORIES:Groupes de travail
END:VEVENT
END:VCALENDAR