BEGIN:VCALENDAR
VERSION:2.0
PRODID:-//Afigese - ECPv6.10.3//NONSGML v1.0//EN
CALSCALE:GREGORIAN
METHOD:PUBLISH
X-ORIGINAL-URL:https://afigese.fr
X-WR-CALDESC:Évènements pour Afigese
REFRESH-INTERVAL;VALUE=DURATION:PT1H
X-Robots-Tag:noindex
X-PUBLISHED-TTL:PT1H
BEGIN:VTIMEZONE
TZID:Europe/Paris
BEGIN:DAYLIGHT
TZOFFSETFROM:+0100
TZOFFSETTO:+0200
TZNAME:CEST
DTSTART:20200329T010000
END:DAYLIGHT
BEGIN:STANDARD
TZOFFSETFROM:+0200
TZOFFSETTO:+0100
TZNAME:CET
DTSTART:20201025T010000
END:STANDARD
END:VTIMEZONE
BEGIN:VEVENT
DTSTART;TZID=Europe/Paris:20201106T143000
DTEND;TZID=Europe/Paris:20201106T163000
DTSTAMP:20260425T172357
CREATED:20201019T081008Z
LAST-MODIFIED:20201019T081008Z
UID:6663-1604673000-1604680200@afigese.fr
SUMMARY:Groupe de travail / Nouveaux Périmètres
DESCRIPTION:Le groupe de travail Nouveaux Périmètres\, Transferts de Compétences et Mécanismes de Financement se réunira le vendredi 6 novembre 2020 en visioconférence.  \nEn savoir plus sur le groupe. \nRenseignements à cette adresse. 
URL:https://afigese.fr/evenement/groupe-de-travail-nouveaux-perimetres/
CATEGORIES:Groupes de travail
END:VEVENT
END:VCALENDAR