BEGIN:VCALENDAR
VERSION:2.0
PRODID:-//Afigese - ECPv6.10.3//NONSGML v1.0//EN
CALSCALE:GREGORIAN
METHOD:PUBLISH
X-ORIGINAL-URL:https://afigese.fr
X-WR-CALDESC:Évènements pour Afigese
REFRESH-INTERVAL;VALUE=DURATION:PT1H
X-Robots-Tag:noindex
X-PUBLISHED-TTL:PT1H
BEGIN:VTIMEZONE
TZID:Europe/Paris
BEGIN:DAYLIGHT
TZOFFSETFROM:+0100
TZOFFSETTO:+0200
TZNAME:CEST
DTSTART:20200329T010000
END:DAYLIGHT
BEGIN:STANDARD
TZOFFSETFROM:+0200
TZOFFSETTO:+0100
TZNAME:CET
DTSTART:20201025T010000
END:STANDARD
END:VTIMEZONE
BEGIN:VEVENT
DTSTART;TZID=Europe/Paris:20200928T100000
DTEND;TZID=Europe/Paris:20200928T120000
DTSTAMP:20260425T190606
CREATED:20200902T140313Z
LAST-MODIFIED:20200902T140313Z
UID:6386-1601287200-1601294400@afigese.fr
SUMMARY:GT Qualité des Comptes et Certification
DESCRIPTION:Le groupe de travail Qualité des Comptes et Certification se réunira le lundi 28 septembre 2020 de 10h à 12h en visioconférence.  \nEn savoir plus sur le groupe. \nRenseignements à cette adresse.
URL:https://afigese.fr/evenement/gt-qualite-des-comptes-et-certification/
CATEGORIES:Groupes de travail
END:VEVENT
END:VCALENDAR