BEGIN:VCALENDAR
VERSION:2.0
PRODID:-//Afigese - ECPv6.10.3//NONSGML v1.0//EN
CALSCALE:GREGORIAN
METHOD:PUBLISH
X-WR-CALNAME:Afigese
X-ORIGINAL-URL:https://afigese.fr
X-WR-CALDESC:Évènements pour Afigese
REFRESH-INTERVAL;VALUE=DURATION:PT1H
X-Robots-Tag:noindex
X-PUBLISHED-TTL:PT1H
BEGIN:VTIMEZONE
TZID:Europe/Paris
BEGIN:DAYLIGHT
TZOFFSETFROM:+0100
TZOFFSETTO:+0200
TZNAME:CEST
DTSTART:20200329T010000
END:DAYLIGHT
BEGIN:STANDARD
TZOFFSETFROM:+0200
TZOFFSETTO:+0100
TZNAME:CET
DTSTART:20201025T010000
END:STANDARD
END:VTIMEZONE
BEGIN:VEVENT
DTSTART;TZID=Europe/Paris:20200827T090000
DTEND;TZID=Europe/Paris:20200827T120000
DTSTAMP:20260425T223620
CREATED:20200710T072004Z
LAST-MODIFIED:20200710T072004Z
UID:6089-1598518800-1598529600@afigese.fr
SUMMARY:GT Dématérialisation
DESCRIPTION:Le groupe de travail Dématérialisation se réunira le jeudi 27 août 2020 de 9h à 12h en visioconférence.  \nEn savoir plus sur le groupe. \nRenseignements à cette adresse.
URL:https://afigese.fr/evenement/gt-dematerialisation-2/
CATEGORIES:Groupes de travail
END:VEVENT
END:VCALENDAR