BEGIN:VCALENDAR
VERSION:2.0
PRODID:-//Afigese - ECPv6.10.3//NONSGML v1.0//EN
CALSCALE:GREGORIAN
METHOD:PUBLISH
X-WR-CALNAME:Afigese
X-ORIGINAL-URL:https://afigese.fr
X-WR-CALDESC:Évènements pour Afigese
REFRESH-INTERVAL;VALUE=DURATION:PT1H
X-Robots-Tag:noindex
X-PUBLISHED-TTL:PT1H
BEGIN:VTIMEZONE
TZID:Europe/Paris
BEGIN:DAYLIGHT
TZOFFSETFROM:+0100
TZOFFSETTO:+0200
TZNAME:CEST
DTSTART:20200329T010000
END:DAYLIGHT
BEGIN:STANDARD
TZOFFSETFROM:+0200
TZOFFSETTO:+0100
TZNAME:CET
DTSTART:20201025T010000
END:STANDARD
END:VTIMEZONE
BEGIN:VEVENT
DTSTART;TZID=Europe/Paris:20200626T140000
DTEND;TZID=Europe/Paris:20200626T163000
DTSTAMP:20260426T040801
CREATED:20200618T135529Z
LAST-MODIFIED:20200618T135529Z
UID:5979-1593180000-1593189000@afigese.fr
SUMMARY:GT Dette en visioconférence
DESCRIPTION:Le groupe de travail Dette se réunira le vendredi 26 mai 2020 de 14h00 à 16h30 en visioconférence.  \nEn savoir plus sur le groupe. \nRenseignements à cette adresse. 
URL:https://afigese.fr/evenement/gt-dette-en-visioconference/
CATEGORIES:Groupes de travail
END:VEVENT
END:VCALENDAR