BEGIN:VCALENDAR
VERSION:2.0
PRODID:-//Afigese - ECPv6.10.3//NONSGML v1.0//EN
CALSCALE:GREGORIAN
METHOD:PUBLISH
X-WR-CALNAME:Afigese
X-ORIGINAL-URL:https://afigese.fr
X-WR-CALDESC:Évènements pour Afigese
REFRESH-INTERVAL;VALUE=DURATION:PT1H
X-Robots-Tag:noindex
X-PUBLISHED-TTL:PT1H
BEGIN:VTIMEZONE
TZID:Europe/Paris
BEGIN:DAYLIGHT
TZOFFSETFROM:+0100
TZOFFSETTO:+0200
TZNAME:CEST
DTSTART:20230326T010000
END:DAYLIGHT
BEGIN:STANDARD
TZOFFSETFROM:+0200
TZOFFSETTO:+0100
TZNAME:CET
DTSTART:20231029T010000
END:STANDARD
END:VTIMEZONE
BEGIN:VEVENT
DTSTART;TZID=Europe/Paris:20230522T100000
DTEND;TZID=Europe/Paris:20230616T163000
DTSTAMP:20260421T092325
CREATED:20230522T070933Z
LAST-MODIFIED:20230522T070933Z
UID:11446-1684749600-1686933000@afigese.fr
SUMMARY:GT Dettes
DESCRIPTION:Le groupe de travail Dettes se réunira le vendredi 16 juin de 10h à 16h30 en présentiel soit sur Paris (lieu à confirmer) soit dans nos locaux : \n2 boulevard de la Libération\, dans l’immeuble Seine Pleyel à Saint Denis (93 200).  \nEn savoir plus sur le groupe. \nRenseignements à cette adresse. 
URL:https://afigese.fr/evenement/gt-dettes/
LOCATION:Locaux AFIGESE -Saint-Denis\, 2 boulevard de la Libération\, Bâtiment B1 Seine Pleyel\, Saint-Denis\, 93200\, France
CATEGORIES:Groupes de travail
ATTACH;FMTTYPE=image/png:https://afigese.fr/wp-content/uploads/2022/02/Bandeau-calendrier-GT-2022-e1644838345998.png
GEO:48.9273012;2.3387643
X-APPLE-STRUCTURED-LOCATION;VALUE=URI;X-ADDRESS=Locaux AFIGESE -Saint-Denis 2 boulevard de la Libération Bâtiment B1 Seine Pleyel Saint-Denis 93200 France;X-APPLE-RADIUS=500;X-TITLE=2 boulevard de la Libération\, Bâtiment B1 Seine Pleyel:geo:2.3387643,48.9273012
END:VEVENT
END:VCALENDAR