BEGIN:VCALENDAR
VERSION:2.0
PRODID:-//Afigese - ECPv6.10.3//NONSGML v1.0//EN
CALSCALE:GREGORIAN
METHOD:PUBLISH
X-WR-CALNAME:Afigese
X-ORIGINAL-URL:https://afigese.fr
X-WR-CALDESC:Évènements pour Afigese
REFRESH-INTERVAL;VALUE=DURATION:PT1H
X-Robots-Tag:noindex
X-PUBLISHED-TTL:PT1H
BEGIN:VTIMEZONE
TZID:Europe/Paris
BEGIN:DAYLIGHT
TZOFFSETFROM:+0100
TZOFFSETTO:+0200
TZNAME:CEST
DTSTART:20230326T010000
END:DAYLIGHT
BEGIN:STANDARD
TZOFFSETFROM:+0200
TZOFFSETTO:+0100
TZNAME:CET
DTSTART:20231029T010000
END:STANDARD
END:VTIMEZONE
BEGIN:VEVENT
DTSTART;TZID=Europe/Paris:20230306T093000
DTEND;TZID=Europe/Paris:20230306T123000
DTSTAMP:20260423T160221
CREATED:20230126T112112Z
LAST-MODIFIED:20230126T112442Z
UID:10853-1678095000-1678105800@afigese.fr
SUMMARY:GT Qualité des Comptes et Certification
DESCRIPTION:Le groupe de travail Qualité des Comptes et Certification se réunira le mardi 6 décembre de 9h30 à 12h30 en visioconférence \nEn savoir plus sur le groupe. \nRenseignements à cette adresse.
URL:https://afigese.fr/evenement/gt-qualite-des-comptes-et-certification-9/
LOCATION:à distance
CATEGORIES:Groupes de travail
ATTACH;FMTTYPE=image/png:https://afigese.fr/wp-content/uploads/2021/11/Bandeau-calendrier-GT-visio-2022-e1643022501728.png
END:VEVENT
BEGIN:VEVENT
DTSTART;TZID=Europe/Paris:20230308T100000
DTEND;TZID=Europe/Paris:20230308T163000
DTSTAMP:20260423T160221
CREATED:20230126T114219Z
LAST-MODIFIED:20230126T114219Z
UID:10859-1678269600-1678293000@afigese.fr
SUMMARY:GT Tarification et Calcul de Coûts
DESCRIPTION:Le groupe de travail Tarification et Calcul de Coût se réunira le mercredi 8 mars de 10h à 16h30 en présentiel dans nos locaux : \n2 boulevard de la Libération\, dans l’immeuble Seine Pleyel à Saint Denis (93 200).  \nEn savoir plus sur le groupe. \nRenseignements à cette adresse. 
URL:https://afigese.fr/evenement/gt-tarification-et-calcul-de-couts/
LOCATION:Saint-Denis\, Ile-de-France
CATEGORIES:Groupes de travail
ATTACH;FMTTYPE=image/png:https://afigese.fr/wp-content/uploads/2022/02/Bandeau-calendrier-GT-2022-e1644838345998.png
END:VEVENT
BEGIN:VEVENT
DTSTART;TZID=Europe/Paris:20230317T140000
DTEND;TZID=Europe/Paris:20230317T160000
DTSTAMP:20260423T160221
CREATED:20230126T101437Z
LAST-MODIFIED:20230126T102403Z
UID:10841-1679061600-1679068800@afigese.fr
SUMMARY:Lancement du Groupe de Travail "Pilotage de la Transition Ecologique"
DESCRIPTION:Le groupe de travail Pilotage de la Transition Ecologique se réunira pour la première fois vendredi 17 mars de 14H à 16H en visioconférence. \nRenseignements à cette adresse.
URL:https://afigese.fr/evenement/lancement-du-groupe-de-travail-pilotage-de-la-transition-ecologique/
LOCATION:à distance
CATEGORIES:Groupes de travail
ATTACH;FMTTYPE=image/png:https://afigese.fr/wp-content/uploads/2021/11/Bandeau-calendrier-GT-visio-2022-e1643022501728.png
END:VEVENT
END:VCALENDAR