BEGIN:VCALENDAR
VERSION:2.0
PRODID:-//Afigese - ECPv6.10.3//NONSGML v1.0//EN
CALSCALE:GREGORIAN
METHOD:PUBLISH
X-WR-CALNAME:Afigese
X-ORIGINAL-URL:https://afigese.fr
X-WR-CALDESC:Évènements pour Afigese
REFRESH-INTERVAL;VALUE=DURATION:PT1H
X-Robots-Tag:noindex
X-PUBLISHED-TTL:PT1H
BEGIN:VTIMEZONE
TZID:Europe/Paris
BEGIN:DAYLIGHT
TZOFFSETFROM:+0100
TZOFFSETTO:+0200
TZNAME:CEST
DTSTART:20220327T010000
END:DAYLIGHT
BEGIN:STANDARD
TZOFFSETFROM:+0200
TZOFFSETTO:+0100
TZNAME:CET
DTSTART:20221030T010000
END:STANDARD
END:VTIMEZONE
BEGIN:VEVENT
DTSTART;TZID=Europe/Paris:20220310T093000
DTEND;TZID=Europe/Paris:20220310T163000
DTSTAMP:20260424T113012
CREATED:20220124T110510Z
LAST-MODIFIED:20220214T113348Z
UID:8972-1646904600-1646929800@afigese.fr
SUMMARY:GT Fiscalité et Dotations
DESCRIPTION:Le groupe de travail Fiscalité et Dotations se réunira le jeudi 10 mars 2022 de 9h30 à 16h30 à Paris.  \nEn savoir plus sur le groupe. \nRenseignements à cette adresse. \n 
URL:https://afigese.fr/evenement/gt-fiscalite-et-dotations-5/
CATEGORIES:Groupes de travail
ATTACH;FMTTYPE=image/png:https://afigese.fr/wp-content/uploads/2022/02/Bandeau-calendrier-GT-2022-e1644838345998.png
END:VEVENT
BEGIN:VEVENT
DTSTART;TZID=Europe/Paris:20220311T100000
DTEND;TZID=Europe/Paris:20220311T160000
DTSTAMP:20260424T113012
CREATED:20220214T113407Z
LAST-MODIFIED:20220214T113407Z
UID:9123-1646992800-1647014400@afigese.fr
SUMMARY:GT Nouveaux Périmètres
DESCRIPTION:Le groupe de travail Nouveaux Périmètres\, Transferts de Compétences et Mécanismes de Financement se réunira le vendredi 11 mars 2022 de 10h à 16h à Paris. \nEn savoir plus sur le groupe. \nRenseignements à cette adresse. 
URL:https://afigese.fr/evenement/gt-nouveaux-perimetres-4/
CATEGORIES:Groupes de travail
ATTACH;FMTTYPE=image/png:https://afigese.fr/wp-content/uploads/2022/02/Bandeau-calendrier-GT-2022-e1644838345998.png
END:VEVENT
BEGIN:VEVENT
DTSTART;TZID=Europe/Paris:20220315T093000
DTEND;TZID=Europe/Paris:20220315T120000
DTSTAMP:20260424T113012
CREATED:20220216T154837Z
LAST-MODIFIED:20220216T154837Z
UID:9150-1647336600-1647345600@afigese.fr
SUMMARY:GT Dette et Financements de Projets
DESCRIPTION:Le groupe de travail Dette et Financement de projets se réunira le mardi 15 mars 2022 de 9h30 à 12h en visioconférence.  \nEn savoir plus sur le groupe Dette et financement de projets. \nRenseignements à cette adresse.
URL:https://afigese.fr/evenement/gt-dette-et-financements-de-projets/
CATEGORIES:Groupes de travail
ATTACH;FMTTYPE=image/png:https://afigese.fr/wp-content/uploads/2021/11/Bandeau-calendrier-GT-visio-2022-e1643022501728.png
END:VEVENT
BEGIN:VEVENT
DTSTART;TZID=Europe/Paris:20220323T100000
DTEND;TZID=Europe/Paris:20220323T163000
DTSTAMP:20260424T113012
CREATED:20220318T153418Z
LAST-MODIFIED:20220318T153418Z
UID:9362-1648029600-1648053000@afigese.fr
SUMMARY:GT Tarification et Calcul de Coût
DESCRIPTION:Le groupe de travail Tarification et Calcul de Cout se réunira mercredi 23 mars de 10h à 16h30 à Saint Denis.  \nEn savoir plus sur le groupe. \nRenseignements à cette adresse. 
URL:https://afigese.fr/evenement/gt-tarification-et-calcul-de-cout-6/
CATEGORIES:Groupes de travail
ATTACH;FMTTYPE=image/png:https://afigese.fr/wp-content/uploads/2022/02/Bandeau-calendrier-GT-2022-e1644838345998.png
END:VEVENT
BEGIN:VEVENT
DTSTART;TZID=Europe/Paris:20220325T093000
DTEND;TZID=Europe/Paris:20220325T120000
DTSTAMP:20260424T113012
CREATED:20220318T152842Z
LAST-MODIFIED:20220318T152842Z
UID:9360-1648200600-1648209600@afigese.fr
SUMMARY:Gt Qualité des Comptes et Certification
DESCRIPTION:Les groupes de travail Qualité des Comptes et Certification  se réunira le vendredi 25 mars 2022 de 9h30 à 12h en visio.  \nEn savoir plus sur le groupe. \nRenseignements à cette adresse. 
URL:https://afigese.fr/evenement/gt-qualite-des-comptes-et-certification-7/
CATEGORIES:Groupes de travail
ATTACH;FMTTYPE=image/png:https://afigese.fr/wp-content/uploads/2021/11/Bandeau-calendrier-GT-visio-2022-e1643022501728.png
END:VEVENT
END:VCALENDAR