BEGIN:VCALENDAR
VERSION:2.0
PRODID:-//Afigese - ECPv6.10.3//NONSGML v1.0//EN
CALSCALE:GREGORIAN
METHOD:PUBLISH
X-WR-CALNAME:Afigese
X-ORIGINAL-URL:https://afigese.fr
X-WR-CALDESC:Évènements pour Afigese
REFRESH-INTERVAL;VALUE=DURATION:PT1H
X-Robots-Tag:noindex
X-PUBLISHED-TTL:PT1H
BEGIN:VTIMEZONE
TZID:Europe/Paris
BEGIN:DAYLIGHT
TZOFFSETFROM:+0100
TZOFFSETTO:+0200
TZNAME:CEST
DTSTART:20210328T010000
END:DAYLIGHT
BEGIN:STANDARD
TZOFFSETFROM:+0200
TZOFFSETTO:+0100
TZNAME:CET
DTSTART:20211031T010000
END:STANDARD
END:VTIMEZONE
BEGIN:VEVENT
DTSTART;TZID=Europe/Paris:20210504T100000
DTEND;TZID=Europe/Paris:20210504T120000
DTSTAMP:20260425T045506
CREATED:20210421T130400Z
LAST-MODIFIED:20210421T130642Z
UID:7648-1620122400-1620129600@afigese.fr
SUMMARY:GT Evaluation des Politiques Publiques
DESCRIPTION:Le groupe de travail Évaluation des Politiques Publiques se réunira le mardi 4 mai 2021 de 10h à 12h en visioconférence.  \nEn savoir plus sur le groupe. \nRenseignements à cette adresse.
URL:https://afigese.fr/evenement/gt-evaluation-des-politiques-publiques-3/
CATEGORIES:Groupes de travail
END:VEVENT
BEGIN:VEVENT
DTSTART;TZID=Europe/Paris:20210505T100000
DTEND;TZID=Europe/Paris:20210505T120000
DTSTAMP:20260425T045506
CREATED:20210125T103526Z
LAST-MODIFIED:20210125T103822Z
UID:7130-1620208800-1620216000@afigese.fr
SUMMARY:GT Qualité des Comptes et Certification
DESCRIPTION:Les groupes de travail Qualité des Comptes et Certification  se réunira le mercredi 5 mai 2021 de 10h à 12h en visioconférence.  \nEn savoir plus sur le groupe. \nRenseignements à cette adresse. 
URL:https://afigese.fr/evenement/gt-qualite-des-comptes-et-certification-3/
CATEGORIES:Groupes de travail
END:VEVENT
BEGIN:VEVENT
DTSTART;TZID=Europe/Paris:20210527T120000
DTEND;TZID=Europe/Paris:20210527T140000
DTSTAMP:20260425T045506
CREATED:20210512T072903Z
LAST-MODIFIED:20210512T072903Z
UID:7736-1622116800-1622124000@afigese.fr
SUMMARY:GT Nouveaux Périmètres
DESCRIPTION:Le groupe de travail Nouveaux Périmètres\, Transferts de Compétences et Mécanismes de Financement se réunira le jeudi 27 mai 2021 en visioconférence.  \nEn savoir plus sur le groupe. \nRenseignements à cette adresse. 
URL:https://afigese.fr/evenement/gt-nouveaux-perimetres/
CATEGORIES:Groupes de travail
END:VEVENT
END:VCALENDAR