BEGIN:VCALENDAR
VERSION:2.0
PRODID:-//Afigese - ECPv6.10.3//NONSGML v1.0//EN
CALSCALE:GREGORIAN
METHOD:PUBLISH
X-WR-CALNAME:Afigese
X-ORIGINAL-URL:https://afigese.fr
X-WR-CALDESC:Évènements pour Afigese
REFRESH-INTERVAL;VALUE=DURATION:PT1H
X-Robots-Tag:noindex
X-PUBLISHED-TTL:PT1H
BEGIN:VTIMEZONE
TZID:Europe/Paris
BEGIN:DAYLIGHT
TZOFFSETFROM:+0100
TZOFFSETTO:+0200
TZNAME:CEST
DTSTART:20200329T010000
END:DAYLIGHT
BEGIN:STANDARD
TZOFFSETFROM:+0200
TZOFFSETTO:+0100
TZNAME:CET
DTSTART:20201025T010000
END:STANDARD
END:VTIMEZONE
BEGIN:VEVENT
DTSTART;TZID=Europe/Paris:20200605T100000
DTEND;TZID=Europe/Paris:20200605T120000
DTSTAMP:20260426T023505
CREATED:20200525T111604Z
LAST-MODIFIED:20200525T111604Z
UID:5911-1591351200-1591358400@afigese.fr
SUMMARY:GT Qualité des Comptes et Certification en visio
DESCRIPTION:Le groupe de travail Qualité des Comptes et Certification se réunira le vendredi 5 juin 2020 de 10h à 12h en visioconférence.  \nEn savoir plus sur le groupe. \nRenseignements à cette adresse.
URL:https://afigese.fr/evenement/gt-qualite-des-comptes-et-certification-en-visio-3/
CATEGORIES:Groupes de travail
END:VEVENT
BEGIN:VEVENT
DTSTART;TZID=Europe/Paris:20200610T100000
DTEND;TZID=Europe/Paris:20200610T120000
DTSTAMP:20260426T023505
CREATED:20200518T103116Z
LAST-MODIFIED:20200518T103145Z
UID:5898-1591783200-1591790400@afigese.fr
SUMMARY:GT Fiscalité et Dotations en visio
DESCRIPTION:Le groupe de travail Fiscalité et Dotations se réunira le mercredi 10 juin 2020 de 10h à 12h en visioconférence.  \nEn savoir plus sur le groupe. \nRenseignements à cette adresse. 
URL:https://afigese.fr/evenement/gt-fiscalite-et-dotations-en-visio-2/
CATEGORIES:Groupes de travail
END:VEVENT
BEGIN:VEVENT
DTSTART;TZID=Europe/Paris:20200612T100000
DTEND;TZID=Europe/Paris:20200612T120000
DTSTAMP:20260426T023505
CREATED:20200603T141845Z
LAST-MODIFIED:20200603T141845Z
UID:5935-1591956000-1591963200@afigese.fr
SUMMARY:GT Évaluation des Politiques Publiques en visioconférence
DESCRIPTION:Le groupe de travail Évaluation des Politiques Publiques se réunira le vendredi 12 juin 2020 de 10h à 12h en visioconférence.  \nEn savoir plus sur le groupe. \nRenseignements à cette adresse.
URL:https://afigese.fr/evenement/gt-evaluation-des-politiques-publiques-en-visioconference/
CATEGORIES:Groupes de travail
END:VEVENT
BEGIN:VEVENT
DTSTART;TZID=Europe/Paris:20200619T100000
DTEND;TZID=Europe/Paris:20200619T120000
DTSTAMP:20260426T023505
CREATED:20200603T141647Z
LAST-MODIFIED:20200603T141647Z
UID:5933-1592560800-1592568000@afigese.fr
SUMMARY:GT Qualité des Comptes en visioconférence
DESCRIPTION:Le groupe de travail Qualité des Comptes et Certification se réunira le vendredi 19 juin 2020 de 10h à 12h en visioconférence.  \nEn savoir plus sur le groupe. \nRenseignements à cette adresse.
URL:https://afigese.fr/evenement/gt-qualite-des-comptes-en-visioconference/
CATEGORIES:Groupes de travail
END:VEVENT
BEGIN:VEVENT
DTSTART;TZID=Europe/Paris:20200624T100000
DTEND;TZID=Europe/Paris:20200624T120000
DTSTAMP:20260426T023505
CREATED:20200617T130607Z
LAST-MODIFIED:20200617T130607Z
UID:5972-1592992800-1593000000@afigese.fr
SUMMARY:GT Tarification et Calcul de Coût en visio
DESCRIPTION:Le groupe de travail Tarification et Calcul de Coût se réunira le mercredi 24 juin 2020 de 10h à 12h en visioconférence.  \nEn savoir plus sur le groupe. \nRenseignements à cette adresse.
URL:https://afigese.fr/evenement/gt-tarification-et-calcul-de-cout-en-visio/
CATEGORIES:Groupes de travail
END:VEVENT
BEGIN:VEVENT
DTSTART;TZID=Europe/Paris:20200625T143000
DTEND;TZID=Europe/Paris:20200625T163000
DTSTAMP:20260426T023505
CREATED:20200618T135352Z
LAST-MODIFIED:20200618T135352Z
UID:5977-1593095400-1593102600@afigese.fr
SUMMARY:GT Fiscalité et Dotations en visio
DESCRIPTION:Le groupe de travail Fiscalité et Dotations se réunira le jeudi 25 mai 2020 de 14h30 à 16h30 en visioconférence.  \nEn savoir plus sur le groupe. \nRenseignements à cette adresse. 
URL:https://afigese.fr/evenement/gt-fiscalite-et-dotations-en-visio-3/
CATEGORIES:Groupes de travail
END:VEVENT
BEGIN:VEVENT
DTSTART;TZID=Europe/Paris:20200626T140000
DTEND;TZID=Europe/Paris:20200626T163000
DTSTAMP:20260426T023505
CREATED:20200618T135529Z
LAST-MODIFIED:20200618T135529Z
UID:5979-1593180000-1593189000@afigese.fr
SUMMARY:GT Dette en visioconférence
DESCRIPTION:Le groupe de travail Dette se réunira le vendredi 26 mai 2020 de 14h00 à 16h30 en visioconférence.  \nEn savoir plus sur le groupe. \nRenseignements à cette adresse. 
URL:https://afigese.fr/evenement/gt-dette-en-visioconference/
CATEGORIES:Groupes de travail
END:VEVENT
END:VCALENDAR