BEGIN:VCALENDAR
VERSION:2.0
PRODID:-//Afigese - ECPv6.10.3//NONSGML v1.0//EN
CALSCALE:GREGORIAN
METHOD:PUBLISH
X-WR-CALNAME:Afigese
X-ORIGINAL-URL:https://afigese.fr
X-WR-CALDESC:Évènements pour Afigese
REFRESH-INTERVAL;VALUE=DURATION:PT1H
X-Robots-Tag:noindex
X-PUBLISHED-TTL:PT1H
BEGIN:VTIMEZONE
TZID:Europe/Paris
BEGIN:DAYLIGHT
TZOFFSETFROM:+0100
TZOFFSETTO:+0200
TZNAME:CEST
DTSTART:20220327T010000
END:DAYLIGHT
BEGIN:STANDARD
TZOFFSETFROM:+0200
TZOFFSETTO:+0100
TZNAME:CET
DTSTART:20221030T010000
END:STANDARD
END:VTIMEZONE
BEGIN:VEVENT
DTSTART;VALUE=DATE:20220613
DTEND;VALUE=DATE:20220617
DTSTAMP:20260423T203506
CREATED:20220330T071457Z
LAST-MODIFIED:20220330T071457Z
UID:9423-1655078400-1655423999@afigese.fr
SUMMARY:Mettre en place une comptabilité analytique pour définir la stratégie tarifaire des services publics locaux
DESCRIPTION:FORMATION EN VISIO \nMettre en place une comptabilité analytique pour définir la stratégie tarifaire des services publics locaux \n  \nRetrouvez le programme complet de la formation et les modalités d’inscription ici.
URL:https://afigese.fr/evenement/mettre-en-place-une-comptabilite-analytique-pour-definir-la-strategie-tarifaire-des-services-publics-locaux/
LOCATION:à distance
CATEGORIES:Formations
END:VEVENT
END:VCALENDAR