BEGIN:VCALENDAR
VERSION:2.0
PRODID:-//Afigese - ECPv6.10.3//NONSGML v1.0//EN
CALSCALE:GREGORIAN
METHOD:PUBLISH
X-WR-CALNAME:Afigese
X-ORIGINAL-URL:https://afigese.fr
X-WR-CALDESC:Évènements pour Afigese
REFRESH-INTERVAL;VALUE=DURATION:PT1H
X-Robots-Tag:noindex
X-PUBLISHED-TTL:PT1H
BEGIN:VTIMEZONE
TZID:Europe/Paris
BEGIN:DAYLIGHT
TZOFFSETFROM:+0100
TZOFFSETTO:+0200
TZNAME:CEST
DTSTART:20220327T010000
END:DAYLIGHT
BEGIN:STANDARD
TZOFFSETFROM:+0200
TZOFFSETTO:+0100
TZNAME:CET
DTSTART:20221030T010000
END:STANDARD
END:VTIMEZONE
BEGIN:VEVENT
DTSTART;VALUE=DATE:20220607
DTEND;VALUE=DATE:20220610
DTSTAMP:20260423T203504
CREATED:20220330T070854Z
LAST-MODIFIED:20220330T070855Z
UID:9421-1654560000-1654819199@afigese.fr
SUMMARY:La cartographie des risques
DESCRIPTION:FORMATION EN VISIO \nLa cartographie des risques \n  \nRetrouvez le programme complet de la formation et les modalités d’inscription ici.
URL:https://afigese.fr/evenement/la-cartographie-des-risques-5/
LOCATION:à distance
CATEGORIES:Formations
END:VEVENT
BEGIN:VEVENT
DTSTART;VALUE=DATE:20220608
DTEND;VALUE=DATE:20220610
DTSTAMP:20260423T203504
CREATED:20220330T070543Z
LAST-MODIFIED:20220516T141622Z
UID:9419-1654646400-1654819199@afigese.fr
SUMMARY:Le pilotage de la masse salariale dans un contexte budgétaire de plus en plus contraint
DESCRIPTION:FORMATION EN VISIO \nLe pilotage de la masse salariale dans un contexte budgétaire de plus en plus contraint \n  \nRetrouvez le programme complet de la formation et les modalités d’inscription ici.
URL:https://afigese.fr/evenement/le-pilotage-de-la-masse-salariale-dans-un-contexte-budgetaire-de-plus-en-plus-contraint/
LOCATION:à distance
CATEGORIES:Formations
END:VEVENT
END:VCALENDAR