BEGIN:VCALENDAR
VERSION:2.0
PRODID:-//Afigese - ECPv6.10.3//NONSGML v1.0//EN
CALSCALE:GREGORIAN
METHOD:PUBLISH
X-WR-CALNAME:Afigese
X-ORIGINAL-URL:https://afigese.fr
X-WR-CALDESC:Évènements pour Afigese
REFRESH-INTERVAL;VALUE=DURATION:PT1H
X-Robots-Tag:noindex
X-PUBLISHED-TTL:PT1H
BEGIN:VTIMEZONE
TZID:Europe/Paris
BEGIN:DAYLIGHT
TZOFFSETFROM:+0100
TZOFFSETTO:+0200
TZNAME:CEST
DTSTART:20220327T010000
END:DAYLIGHT
BEGIN:STANDARD
TZOFFSETFROM:+0200
TZOFFSETTO:+0100
TZNAME:CET
DTSTART:20221030T010000
END:STANDARD
END:VTIMEZONE
BEGIN:VEVENT
DTSTART;VALUE=DATE:20220601
DTEND;VALUE=DATE:20220603
DTSTAMP:20260423T222424
CREATED:20220330T070044Z
LAST-MODIFIED:20220330T070044Z
UID:9414-1654041600-1654214399@afigese.fr
SUMMARY:L’Observation territoriale : une démarche et un outil d’aide au pilotage de l’action publique
DESCRIPTION:FORMATION EN PRESENTIEL\, A PARIS \nL’Observation territoriale : une démarche et un outil d’aide au pilotage de l’action publique \n  \nRetrouvez le programme complet de la formation et les modalités d’inscription ici.
URL:https://afigese.fr/evenement/lobservation-territoriale-une-demarche-et-un-outil-daide-au-pilotage-de-laction-publique/
LOCATION:Saint-Denis\, Ile-de-France
CATEGORIES:Formations
END:VEVENT
END:VCALENDAR