BEGIN:VCALENDAR
VERSION:2.0
PRODID:-//Afigese - ECPv6.10.3//NONSGML v1.0//EN
CALSCALE:GREGORIAN
METHOD:PUBLISH
X-WR-CALNAME:Afigese
X-ORIGINAL-URL:https://afigese.fr
X-WR-CALDESC:Évènements pour Afigese
REFRESH-INTERVAL;VALUE=DURATION:PT1H
X-Robots-Tag:noindex
X-PUBLISHED-TTL:PT1H
BEGIN:VTIMEZONE
TZID:Europe/Paris
BEGIN:DAYLIGHT
TZOFFSETFROM:+0100
TZOFFSETTO:+0200
TZNAME:CEST
DTSTART:20220327T010000
END:DAYLIGHT
BEGIN:STANDARD
TZOFFSETFROM:+0200
TZOFFSETTO:+0100
TZNAME:CET
DTSTART:20221030T010000
END:STANDARD
END:VTIMEZONE
BEGIN:VEVENT
DTSTART;VALUE=DATE:20220405
DTEND;VALUE=DATE:20220408
DTSTAMP:20260424T013245
CREATED:20220323T154002Z
LAST-MODIFIED:20220323T154146Z
UID:9366-1649116800-1649375999@afigese.fr
SUMMARY:Réussir la mise en place de tableaux de bord
DESCRIPTION:FORMATION EN VISIO \nRéussir la mise en place de tableaux de bord \n  \nRetrouvez le programme complet de la formation et les modalités d’inscription ici.
URL:https://afigese.fr/evenement/reussir-la-mise-en-place-de-tableaux-de-bord/
LOCATION:à distance
CATEGORIES:Formations
END:VEVENT
END:VCALENDAR