BEGIN:VCALENDAR
VERSION:2.0
PRODID:-//Afigese - ECPv6.10.3//NONSGML v1.0//EN
CALSCALE:GREGORIAN
METHOD:PUBLISH
X-WR-CALNAME:Afigese
X-ORIGINAL-URL:https://afigese.fr
X-WR-CALDESC:Évènements pour Afigese
REFRESH-INTERVAL;VALUE=DURATION:PT1H
X-Robots-Tag:noindex
X-PUBLISHED-TTL:PT1H
BEGIN:VTIMEZONE
TZID:Europe/Paris
BEGIN:DAYLIGHT
TZOFFSETFROM:+0100
TZOFFSETTO:+0200
TZNAME:CEST
DTSTART:20220327T010000
END:DAYLIGHT
BEGIN:STANDARD
TZOFFSETFROM:+0200
TZOFFSETTO:+0100
TZNAME:CET
DTSTART:20221030T010000
END:STANDARD
END:VTIMEZONE
BEGIN:VEVENT
DTSTART;VALUE=DATE:20220330
DTEND;VALUE=DATE:20220401
DTSTAMP:20260424T013243
CREATED:20220201T163629Z
LAST-MODIFIED:20220201T163629Z
UID:9024-1648598400-1648771199@afigese.fr
SUMMARY:Acquérir une méthodologie d’analyse de vos activités au regard de la TVA et en comprendre les incidences budgétaires et financières
DESCRIPTION:FORMATION EN VISIO \nAcquérir une méthodologie d’analyse de vos activités au regard de la TVA et en comprendre les incidences budgétaires et financières \n  \nRetrouvez le programme complet de la formation et les modalités d’inscription ici.
URL:https://afigese.fr/evenement/acquerir-une-methodologie-danalyse-de-vos-activites-au-regard-de-la-tva-et-en-comprendre-les-incidences-budgetaires-et-financieres-2/
LOCATION:à distance
CATEGORIES:Formations
END:VEVENT
END:VCALENDAR