BEGIN:VCALENDAR
VERSION:2.0
PRODID:-//Afigese - ECPv6.10.3//NONSGML v1.0//EN
CALSCALE:GREGORIAN
METHOD:PUBLISH
X-ORIGINAL-URL:https://afigese.fr
X-WR-CALDESC:Évènements pour Afigese
REFRESH-INTERVAL;VALUE=DURATION:PT1H
X-Robots-Tag:noindex
X-PUBLISHED-TTL:PT1H
BEGIN:VTIMEZONE
TZID:Europe/Paris
BEGIN:DAYLIGHT
TZOFFSETFROM:+0100
TZOFFSETTO:+0200
TZNAME:CEST
DTSTART:20220327T010000
END:DAYLIGHT
BEGIN:STANDARD
TZOFFSETFROM:+0200
TZOFFSETTO:+0100
TZNAME:CET
DTSTART:20221030T010000
END:STANDARD
END:VTIMEZONE
BEGIN:VEVENT
DTSTART;VALUE=DATE:20220309
DTEND;VALUE=DATE:20220312
DTSTAMP:20260424T072418
CREATED:20220104T134329Z
LAST-MODIFIED:20220104T134329Z
UID:8860-1646784000-1647043199@afigese.fr
SUMMARY:Stratégie et pilotage de la dette et de la trésorerie
DESCRIPTION:FORMATION EN VISIO \nStratégie et pilotage de la dette et de la trésorerie \n  \nRetrouvez le programme complet de la formation et les modalités d’inscription ici.
URL:https://afigese.fr/evenement/strategie-et-pilotage-de-la-dette-et-de-la-tresorerie-3/
LOCATION:à distance
CATEGORIES:Formations
END:VEVENT
BEGIN:VEVENT
DTSTART;VALUE=DATE:20220310
DTEND;VALUE=DATE:20220312
DTSTAMP:20260424T072418
CREATED:20220104T134816Z
LAST-MODIFIED:20220216T120045Z
UID:8862-1646870400-1647043199@afigese.fr
SUMMARY:La conduite du changement dans un contexte de télétravail : pour une administration efficiente et performante
DESCRIPTION:FORMATION EN VISIO \nLa conduite du changement dans un contexte de télétravail : pour une administration efficiente et performante \n  \nRetrouvez le programme complet de la formation et les modalités d’inscription ici.
URL:https://afigese.fr/evenement/la-conduite-du-changement-au-coeur-dune-administration-efficiente-et-performante/
LOCATION:à distance
CATEGORIES:Formations
END:VEVENT
END:VCALENDAR