BEGIN:VCALENDAR
VERSION:2.0
PRODID:-//Afigese - ECPv6.10.3//NONSGML v1.0//EN
CALSCALE:GREGORIAN
METHOD:PUBLISH
X-WR-CALNAME:Afigese
X-ORIGINAL-URL:https://afigese.fr
X-WR-CALDESC:Évènements pour Afigese
REFRESH-INTERVAL;VALUE=DURATION:PT1H
X-Robots-Tag:noindex
X-PUBLISHED-TTL:PT1H
BEGIN:VTIMEZONE
TZID:Europe/Paris
BEGIN:DAYLIGHT
TZOFFSETFROM:+0100
TZOFFSETTO:+0200
TZNAME:CEST
DTSTART:20220327T010000
END:DAYLIGHT
BEGIN:STANDARD
TZOFFSETFROM:+0200
TZOFFSETTO:+0100
TZNAME:CET
DTSTART:20221030T010000
END:STANDARD
END:VTIMEZONE
BEGIN:VEVENT
DTSTART;VALUE=DATE:20220117
DTEND;VALUE=DATE:20220119
DTSTAMP:20260424T101832
CREATED:20220104T111624Z
LAST-MODIFIED:20220104T112522Z
UID:8832-1642377600-1642550399@afigese.fr
SUMMARY:Comprendre et anticiper les dotations communales et intercommunales
DESCRIPTION:FORMATION EN VISIO \nComprendre et anticiper les dotations communales et intercommunales \n  \nRetrouvez le programme complet de la formation et les modalités d’inscription ici.
URL:https://afigese.fr/evenement/comprendre-et-anticiper-les-dotations-communales-et-intercommunales/
LOCATION:à distance
CATEGORIES:Formations
END:VEVENT
END:VCALENDAR