BEGIN:VCALENDAR
VERSION:2.0
PRODID:-//Afigese - ECPv6.10.3//NONSGML v1.0//EN
CALSCALE:GREGORIAN
METHOD:PUBLISH
X-ORIGINAL-URL:https://afigese.fr
X-WR-CALDESC:Évènements pour Afigese
REFRESH-INTERVAL;VALUE=DURATION:PT1H
X-Robots-Tag:noindex
X-PUBLISHED-TTL:PT1H
BEGIN:VTIMEZONE
TZID:Europe/Paris
BEGIN:DAYLIGHT
TZOFFSETFROM:+0100
TZOFFSETTO:+0200
TZNAME:CEST
DTSTART:20210328T010000
END:DAYLIGHT
BEGIN:STANDARD
TZOFFSETFROM:+0200
TZOFFSETTO:+0100
TZNAME:CET
DTSTART:20211031T010000
END:STANDARD
END:VTIMEZONE
BEGIN:VEVENT
DTSTART;TZID=Europe/Paris:20211208T090000
DTEND;TZID=Europe/Paris:20211209T170000
DTSTAMP:20260424T115038
CREATED:20201029T080041Z
LAST-MODIFIED:20210716T091430Z
UID:7259-1638954000-1639069200@afigese.fr
SUMMARY:Formation : Mettre en place une comptabilité analytique pour définir la stratégie tarifaire des services publics locaux
DESCRIPTION:FORMATION A LYON \nMettre en place une comptabilité analytique pour définir la stratégie tarifaire des services publics locaux \n  \nRetrouvez le programme complet de la formation et les modalités d’inscription ici.
URL:https://afigese.fr/evenement/formation-mettre-en-place-une-comptabilite-analytique-pour-definir-la-strategie-tarifaire-des-services-publics-locaux/
LOCATION:LYON\, LYON\, 69000\, France
CATEGORIES:Formations
GEO:45.764043;4.835659
END:VEVENT
END:VCALENDAR