BEGIN:VCALENDAR
VERSION:2.0
PRODID:-//Afigese - ECPv6.10.3//NONSGML v1.0//EN
CALSCALE:GREGORIAN
METHOD:PUBLISH
X-ORIGINAL-URL:https://afigese.fr
X-WR-CALDESC:Évènements pour Afigese
REFRESH-INTERVAL;VALUE=DURATION:PT1H
X-Robots-Tag:noindex
X-PUBLISHED-TTL:PT1H
BEGIN:VTIMEZONE
TZID:Europe/Paris
BEGIN:DAYLIGHT
TZOFFSETFROM:+0100
TZOFFSETTO:+0200
TZNAME:CEST
DTSTART:20210328T010000
END:DAYLIGHT
BEGIN:STANDARD
TZOFFSETFROM:+0200
TZOFFSETTO:+0100
TZNAME:CET
DTSTART:20211031T010000
END:STANDARD
END:VTIMEZONE
BEGIN:VEVENT
DTSTART;TZID=Europe/Paris:20210915T090000
DTEND;TZID=Europe/Paris:20210916T173000
DTSTAMP:20260424T171959
CREATED:20200915T070024Z
LAST-MODIFIED:20210716T090938Z
UID:6119-1631696400-1631813400@afigese.fr
SUMMARY:Formation : Valoriser les données fiscales pour comprendre\, prévoir et fiabiliser les ressources fiscales
DESCRIPTION:FORMATION A PARIS \nRetrouvez le programme complet de la formation et les modalités d’inscription ici. \n 
URL:https://afigese.fr/evenement/valoriser-les-donnees-fiscales-pour-comprendre-prevoir-et-fiabiliser-les-ressources-fiscales-2/
CATEGORIES:Formations
END:VEVENT
END:VCALENDAR