BEGIN:VCALENDAR
VERSION:2.0
PRODID:-//Afigese - ECPv6.10.3//NONSGML v1.0//EN
CALSCALE:GREGORIAN
METHOD:PUBLISH
X-WR-CALNAME:Afigese
X-ORIGINAL-URL:https://afigese.fr
X-WR-CALDESC:Évènements pour Afigese
REFRESH-INTERVAL;VALUE=DURATION:PT1H
X-Robots-Tag:noindex
X-PUBLISHED-TTL:PT1H
BEGIN:VTIMEZONE
TZID:Europe/Paris
BEGIN:DAYLIGHT
TZOFFSETFROM:+0100
TZOFFSETTO:+0200
TZNAME:CEST
DTSTART:20210328T010000
END:DAYLIGHT
BEGIN:STANDARD
TZOFFSETFROM:+0200
TZOFFSETTO:+0100
TZNAME:CET
DTSTART:20211031T010000
END:STANDARD
END:VTIMEZONE
BEGIN:VEVENT
DTSTART;TZID=Europe/Paris:20210614T140000
DTEND;TZID=Europe/Paris:20210615T163000
DTSTAMP:20260424T221253
CREATED:20200614T120022Z
LAST-MODIFIED:20210517T092328Z
UID:6222-1623679200-1623774600@afigese.fr
SUMMARY:Formation : Sécuriser et optimiser la TVA des projets structurants de votre collectivité
DESCRIPTION:FORMATION  EN VISIO \nSécuriser et optimiser la TVA des projets structurants de votre collectivité \n  \nRetrouvez le programme complet de la formation et les modalités d’inscription ici.
URL:https://afigese.fr/evenement/maitriser-les-specificites-de-la-tva-afin-de-securiser-et-doptimiser-sa-gestion/
CATEGORIES:Formations
END:VEVENT
END:VCALENDAR