BEGIN:VCALENDAR
VERSION:2.0
PRODID:-//Afigese - ECPv6.10.3//NONSGML v1.0//EN
CALSCALE:GREGORIAN
METHOD:PUBLISH
X-WR-CALNAME:Afigese
X-ORIGINAL-URL:https://afigese.fr
X-WR-CALDESC:Évènements pour Afigese
REFRESH-INTERVAL;VALUE=DURATION:PT1H
X-Robots-Tag:noindex
X-PUBLISHED-TTL:PT1H
BEGIN:VTIMEZONE
TZID:Europe/Paris
BEGIN:DAYLIGHT
TZOFFSETFROM:+0100
TZOFFSETTO:+0200
TZNAME:CEST
DTSTART:20210328T010000
END:DAYLIGHT
BEGIN:STANDARD
TZOFFSETFROM:+0200
TZOFFSETTO:+0100
TZNAME:CET
DTSTART:20211031T010000
END:STANDARD
END:VTIMEZONE
BEGIN:VEVENT
DTSTART;TZID=Europe/Paris:20210222T140000
DTEND;TZID=Europe/Paris:20210226T163000
DTSTAMP:20260425T043941
CREATED:20200222T130038Z
LAST-MODIFIED:20201208T140253Z
UID:6172-1614002400-1614357000@afigese.fr
SUMMARY:Formation :  Optimiser les ressources financières des collectivités grâce à une gestion active de leur patrimoine
DESCRIPTION:FORMATION EN VISIO \nRetrouvez le programme complet de la formation et les modalités d’inscription ici. \n 
URL:https://afigese.fr/evenement/optimiser-les-ressources-financieres-des-collectivites-grace-a-une-gestion-active-de-leur-patrimoine/
CATEGORIES:Formations
END:VEVENT
END:VCALENDAR