BEGIN:VCALENDAR
VERSION:2.0
PRODID:-//Afigese - ECPv6.10.3//NONSGML v1.0//EN
CALSCALE:GREGORIAN
METHOD:PUBLISH
X-WR-CALNAME:Afigese
X-ORIGINAL-URL:https://afigese.fr
X-WR-CALDESC:Évènements pour Afigese
REFRESH-INTERVAL;VALUE=DURATION:PT1H
X-Robots-Tag:noindex
X-PUBLISHED-TTL:PT1H
BEGIN:VTIMEZONE
TZID:Europe/Paris
BEGIN:DAYLIGHT
TZOFFSETFROM:+0100
TZOFFSETTO:+0200
TZNAME:CEST
DTSTART:20220327T010000
END:DAYLIGHT
BEGIN:STANDARD
TZOFFSETFROM:+0200
TZOFFSETTO:+0100
TZNAME:CET
DTSTART:20221030T010000
END:STANDARD
END:VTIMEZONE
BEGIN:VEVENT
DTSTART;VALUE=DATE:20220110
DTEND;VALUE=DATE:20220113
DTSTAMP:20260424T083945
CREATED:20220103T080016Z
LAST-MODIFIED:20220104T112317Z
UID:8817-1641772800-1642031999@afigese.fr
SUMMARY:Réussir la bascule en M57
DESCRIPTION:FORMATION EN VISIO \nRéussir la bascule en M57 \n  \nRetrouvez le programme complet de la formation et les modalités d’inscription ici.
URL:https://afigese.fr/evenement/reussir-la-bascule-en-m57/
LOCATION:à distance
CATEGORIES:Formations
END:VEVENT
BEGIN:VEVENT
DTSTART;VALUE=DATE:20220117
DTEND;VALUE=DATE:20220119
DTSTAMP:20260424T083945
CREATED:20220104T111624Z
LAST-MODIFIED:20220104T112522Z
UID:8832-1642377600-1642550399@afigese.fr
SUMMARY:Comprendre et anticiper les dotations communales et intercommunales
DESCRIPTION:FORMATION EN VISIO \nComprendre et anticiper les dotations communales et intercommunales \n  \nRetrouvez le programme complet de la formation et les modalités d’inscription ici.
URL:https://afigese.fr/evenement/comprendre-et-anticiper-les-dotations-communales-et-intercommunales/
LOCATION:à distance
CATEGORIES:Formations
END:VEVENT
BEGIN:VEVENT
DTSTART;VALUE=DATE:20220124
DTEND;VALUE=DATE:20220127
DTSTAMP:20260424T083945
CREATED:20220104T112125Z
LAST-MODIFIED:20220104T130744Z
UID:8839-1642982400-1643241599@afigese.fr
SUMMARY:Optimiser la gestion des subventions des associations : de l’attribution à la lecture des comptes
DESCRIPTION:FORMATION EN VISIO \nOptimiser la gestion des subventions des associations : de l’attribution à la lecture des comptes \n  \nRetrouvez le programme complet de la formation et les modalités d’inscription ici.
URL:https://afigese.fr/evenement/optimiser-la-gestion-des-subventions-des-associations-de-lattribution-a-la-lecture-des-comptes-2/
LOCATION:à distance
CATEGORIES:Formations
END:VEVENT
BEGIN:VEVENT
DTSTART;VALUE=DATE:20220125
DTEND;VALUE=DATE:20220127
DTSTAMP:20260424T083945
CREATED:20220104T112905Z
LAST-MODIFIED:20220104T113243Z
UID:8845-1643068800-1643241599@afigese.fr
SUMMARY:Démarche et fondamentaux de l’évaluation des politiques publiques
DESCRIPTION:FORMATION EN PRESENTIEL \nDémarche et fondamentaux de l’évaluation des politiques publiques \n  \nRetrouvez le programme complet de la formation et les modalités d’inscription ici.
URL:https://afigese.fr/evenement/demarche-et-fondamentaux-de-levaluation-des-politiques-publiques-3/
LOCATION:Saint-Denis\, Ile-de-France
CATEGORIES:Formations
END:VEVENT
BEGIN:VEVENT
DTSTART;VALUE=DATE:20220131
DTEND;VALUE=DATE:20220203
DTSTAMP:20260424T083945
CREATED:20220104T114227Z
LAST-MODIFIED:20220104T114227Z
UID:8852-1643587200-1643846399@afigese.fr
SUMMARY:Optimiser les ressources financières des collectivités grâce à une gestion active de leur patrimoine
DESCRIPTION:FORMATION EN VISIO \nOptimiser les ressources financières des collectivités grâce à une gestion active de leur patrimoine \n  \nRetrouvez le programme complet de la formation et les modalités d’inscription ici.
URL:https://afigese.fr/evenement/optimiser-les-ressources-financieres-des-collectivites-grace-a-une-gestion-active-de-leur-patrimoine-2/
LOCATION:à distance
CATEGORIES:Formations
END:VEVENT
END:VCALENDAR