BEGIN:VCALENDAR
VERSION:2.0
PRODID:-//Afigese - ECPv6.10.3//NONSGML v1.0//EN
CALSCALE:GREGORIAN
METHOD:PUBLISH
X-ORIGINAL-URL:https://afigese.fr
X-WR-CALDESC:Évènements pour Afigese
REFRESH-INTERVAL;VALUE=DURATION:PT1H
X-Robots-Tag:noindex
X-PUBLISHED-TTL:PT1H
BEGIN:VTIMEZONE
TZID:Europe/Paris
BEGIN:DAYLIGHT
TZOFFSETFROM:+0100
TZOFFSETTO:+0200
TZNAME:CEST
DTSTART:20210328T010000
END:DAYLIGHT
BEGIN:STANDARD
TZOFFSETFROM:+0200
TZOFFSETTO:+0100
TZNAME:CET
DTSTART:20211031T010000
END:STANDARD
END:VTIMEZONE
BEGIN:VEVENT
DTSTART;TZID=Europe/Paris:20211104T090000
DTEND;TZID=Europe/Paris:20211105T173000
DTSTAMP:20260424T115747
CREATED:20201104T080014Z
LAST-MODIFIED:20210716T091114Z
UID:6195-1636016400-1636133400@afigese.fr
SUMMARY:La programmation pluriannuelle et la gestion des autorisations de programme / crédits de paiement
DESCRIPTION:FORMATION A  PARIS \nLa programmation pluriannuelle et la gestion des autorisations de programme / crédits de paiement \n  \nRetrouvez le programme complet de la formation et les modalités d’inscription ici.
URL:https://afigese.fr/evenement/la-programmation-pluriannuelle-et-la-gestion-des-autorisations-de-programme-credits-de-paiement/
LOCATION:Espace VINCI Formeret\, 25 rue des Jeûneurs\, PARIS\, 75002\, France
CATEGORIES:Formations
GEO:48.8694447;2.344824
X-APPLE-STRUCTURED-LOCATION;VALUE=URI;X-ADDRESS=Espace VINCI Formeret 25 rue des Jeûneurs PARIS 75002 France;X-APPLE-RADIUS=500;X-TITLE=25 rue des Jeûneurs:geo:2.344824,48.8694447
END:VEVENT
BEGIN:VEVENT
DTSTART;TZID=Europe/Paris:20211108T140000
DTEND;TZID=Europe/Paris:20211109T163000
DTSTAMP:20260424T115747
CREATED:20200316T080003Z
LAST-MODIFIED:20210716T091324Z
UID:6206-1636380000-1636475400@afigese.fr
SUMMARY:Formation : Mettre en place une démarche de pilotage des politiques publiques et des fonctions d’aide à la décision
DESCRIPTION:FORMATION EN VISIO \nMettre en place une démarche de pilotage des politiques publiques et des fonctions d’aide à la décision \n  \nRetrouvez le programme complet de la formation et les modalités d’inscription ici.
URL:https://afigese.fr/evenement/https-afigese-fr-formation-demarche-pilotage-politiques-publiques-fonctions-aide-decision/
CATEGORIES:Formations
END:VEVENT
BEGIN:VEVENT
DTSTART;TZID=Europe/Paris:20211118T093000
DTEND;TZID=Europe/Paris:20211119T170000
DTSTAMP:20260424T115747
CREATED:20210130T123026Z
LAST-MODIFIED:20210716T091244Z
UID:658-1637227800-1637341200@afigese.fr
SUMMARY:Formation : Comment mener une mission d’audit d’une association ?
DESCRIPTION:FORMATION  EN VISIO \nComment mener une mission d’audit d’une association ? \n  \nRetrouvez le programme complet de la formation et les modalités d’inscription ici.
URL:https://afigese.fr/evenement/https-afigese-fr-formation-comment-mener-mission-audit-association/
CATEGORIES:Formations
END:VEVENT
END:VCALENDAR