BEGIN:VCALENDAR
VERSION:2.0
PRODID:-//Afigese - ECPv6.10.3//NONSGML v1.0//EN
CALSCALE:GREGORIAN
METHOD:PUBLISH
X-WR-CALNAME:Afigese
X-ORIGINAL-URL:https://afigese.fr
X-WR-CALDESC:Évènements pour Afigese
REFRESH-INTERVAL;VALUE=DURATION:PT1H
X-Robots-Tag:noindex
X-PUBLISHED-TTL:PT1H
BEGIN:VTIMEZONE
TZID:Europe/Paris
BEGIN:DAYLIGHT
TZOFFSETFROM:+0100
TZOFFSETTO:+0200
TZNAME:CEST
DTSTART:20210328T010000
END:DAYLIGHT
BEGIN:STANDARD
TZOFFSETFROM:+0200
TZOFFSETTO:+0100
TZNAME:CET
DTSTART:20211031T010000
END:STANDARD
END:VTIMEZONE
BEGIN:VEVENT
DTSTART;TZID=Europe/Paris:20210510T093000
DTEND;TZID=Europe/Paris:20210511T163000
DTSTAMP:20260424T220847
CREATED:20201209T112218Z
LAST-MODIFIED:20210407T092844Z
UID:6899-1620639000-1620750600@afigese.fr
SUMMARY:Formation : Optimiser la gestion des subventions des associations : de l’attribution à la lecture des comptes
DESCRIPTION:FORMATION EN VISIO \nOptimiser la gestion des subventions des associations : de l’attribution à la lecture des comptes \n  \nRetrouvez le programme complet de la formation et les modalités d’inscription ici.
URL:https://afigese.fr/evenement/optimiser-la-gestion-des-subventions-des-associations-de-lattribution-a-la-lecture-des-comptes/
CATEGORIES:Formations
END:VEVENT
BEGIN:VEVENT
DTSTART;TZID=Europe/Paris:20210525T090000
DTEND;TZID=Europe/Paris:20210528T163000
DTSTAMP:20260424T220847
CREATED:20200525T073053Z
LAST-MODIFIED:20201208T140638Z
UID:6216-1621933200-1622219400@afigese.fr
SUMMARY:Formation : Développer des pratiques d’évaluation utiles au pilotage stratégique et opérationnel : conception\, méthode\, outils\, livrables
DESCRIPTION:FORMATION EN VISIO \nDévelopper des pratiques d’évaluation utiles au pilotage stratégique et opérationnel : conception\, méthode\, outils\, livrables \n  \nRetrouvez le programme complet de la formation et les modalités d’inscription ici.
URL:https://afigese.fr/evenement/developper-des-pratiques-devaluation-utiles-au-pilotage-strategique-et-operationnel-conception-methode-outils-livrables-2/
CATEGORIES:Formations
END:VEVENT
BEGIN:VEVENT
DTSTART;TZID=Europe/Paris:20210531T093000
DTEND;TZID=Europe/Paris:20210601T170000
DTSTAMP:20260424T220847
CREATED:20200531T070049Z
LAST-MODIFIED:20210507T082620Z
UID:6352-1622453400-1622566800@afigese.fr
SUMMARY:Formation : La cartographie des risques
DESCRIPTION:FORMATION  EN VISIO \nLa cartographie des risques \n  \nRetrouvez le programme complet de la formation et les modalités d’inscription ici.
URL:https://afigese.fr/evenement/la-cartographie-des-risques-3/
CATEGORIES:Formations
END:VEVENT
END:VCALENDAR