BEGIN:VCALENDAR
VERSION:2.0
PRODID:-//Afigese - ECPv6.10.3//NONSGML v1.0//EN
CALSCALE:GREGORIAN
METHOD:PUBLISH
X-WR-CALNAME:Afigese
X-ORIGINAL-URL:https://afigese.fr
X-WR-CALDESC:Évènements pour Afigese
REFRESH-INTERVAL;VALUE=DURATION:PT1H
X-Robots-Tag:noindex
X-PUBLISHED-TTL:PT1H
BEGIN:VTIMEZONE
TZID:Europe/Paris
BEGIN:DAYLIGHT
TZOFFSETFROM:+0100
TZOFFSETTO:+0200
TZNAME:CEST
DTSTART:20240331T010000
END:DAYLIGHT
BEGIN:STANDARD
TZOFFSETFROM:+0200
TZOFFSETTO:+0100
TZNAME:CET
DTSTART:20241027T010000
END:STANDARD
END:VTIMEZONE
BEGIN:VEVENT
DTSTART;TZID=Europe/Paris:20240619T130000
DTEND;TZID=Europe/Paris:20240621T170000
DTSTAMP:20260424T121222
CREATED:20240116T154014Z
LAST-MODIFIED:20240528T083908Z
UID:12406-1718802000-1718989200@afigese.fr
SUMMARY:Optimiser la gestion des subventions des associations : de l’attribution à la lecture des comptes
DESCRIPTION:FORMATION EN VISIO \nOptimiser la gestion des subventions des associations : de l’attribution à la lecture des comptes \n  \nRetrouvez le programme complet de la formation et les modalités d’inscription ici.
URL:https://afigese.fr/evenement/optimiser-la-gestion-des-subventions-des-associations-de-lattribution-a-la-lecture-des-comptes-5/
LOCATION:à distance
CATEGORIES:Formations
END:VEVENT
END:VCALENDAR