BEGIN:VCALENDAR
VERSION:2.0
PRODID:-//Afigese - ECPv6.10.3//NONSGML v1.0//EN
CALSCALE:GREGORIAN
METHOD:PUBLISH
X-ORIGINAL-URL:https://afigese.fr
X-WR-CALDESC:Évènements pour Afigese
REFRESH-INTERVAL;VALUE=DURATION:PT1H
X-Robots-Tag:noindex
X-PUBLISHED-TTL:PT1H
BEGIN:VTIMEZONE
TZID:Europe/Paris
BEGIN:DAYLIGHT
TZOFFSETFROM:+0100
TZOFFSETTO:+0200
TZNAME:CEST
DTSTART:20240331T010000
END:DAYLIGHT
BEGIN:STANDARD
TZOFFSETFROM:+0200
TZOFFSETTO:+0100
TZNAME:CET
DTSTART:20241027T010000
END:STANDARD
END:VTIMEZONE
BEGIN:VEVENT
DTSTART;TZID=Europe/Paris:20240604T093000
DTEND;TZID=Europe/Paris:20240605T173000
DTSTAMP:20260424T115548
CREATED:20240116T142354Z
LAST-MODIFIED:20240116T142354Z
UID:12386-1717493400-1717608600@afigese.fr
SUMMARY:Approfondir l’analyse financière des collectivités
DESCRIPTION:FORMATION EN PRESENTIEL\, A PARIS \nApprofondir l’analyse financière des collectivités \n  \nRetrouvez le programme complet de la formation et les modalités d’inscription ici.
URL:https://afigese.fr/evenement/approfondir-lanalyse-financiere-des-collectivites-2/
LOCATION:Saint-Denis\, Ile-de-France
CATEGORIES:Formations
END:VEVENT
END:VCALENDAR