BEGIN:VCALENDAR
VERSION:2.0
PRODID:-//Afigese - ECPv6.10.3//NONSGML v1.0//EN
CALSCALE:GREGORIAN
METHOD:PUBLISH
X-WR-CALNAME:Afigese
X-ORIGINAL-URL:https://afigese.fr
X-WR-CALDESC:Évènements pour Afigese
REFRESH-INTERVAL;VALUE=DURATION:PT1H
X-Robots-Tag:noindex
X-PUBLISHED-TTL:PT1H
BEGIN:VTIMEZONE
TZID:Europe/Paris
BEGIN:DAYLIGHT
TZOFFSETFROM:+0100
TZOFFSETTO:+0200
TZNAME:CEST
DTSTART:20240331T010000
END:DAYLIGHT
BEGIN:STANDARD
TZOFFSETFROM:+0200
TZOFFSETTO:+0100
TZNAME:CET
DTSTART:20241027T010000
END:STANDARD
END:VTIMEZONE
BEGIN:VEVENT
DTSTART;TZID=Europe/Paris:20240404T140000
DTEND;TZID=Europe/Paris:20240405T170000
DTSTAMP:20260424T152633
CREATED:20231220T150914Z
LAST-MODIFIED:20231220T150914Z
UID:12244-1712239200-1712336400@afigese.fr
SUMMARY:Comprendre les notions de base de comptabilité privée
DESCRIPTION:FORMATION EN VISIO \nComprendre les notions de base de comptabilité privée \n  \nRetrouvez le programme complet de la formation et les modalités d’inscription ici.
URL:https://afigese.fr/evenement/comprendre-les-notions-de-base-de-comptabilite-privee-2/
LOCATION:à distance
CATEGORIES:Formations
END:VEVENT
END:VCALENDAR