BEGIN:VCALENDAR
VERSION:2.0
PRODID:-//Afigese - ECPv6.10.3//NONSGML v1.0//EN
CALSCALE:GREGORIAN
METHOD:PUBLISH
X-WR-CALNAME:Afigese
X-ORIGINAL-URL:https://afigese.fr
X-WR-CALDESC:Évènements pour Afigese
REFRESH-INTERVAL;VALUE=DURATION:PT1H
X-Robots-Tag:noindex
X-PUBLISHED-TTL:PT1H
BEGIN:VTIMEZONE
TZID:Europe/Paris
BEGIN:DAYLIGHT
TZOFFSETFROM:+0100
TZOFFSETTO:+0200
TZNAME:CEST
DTSTART:20240331T010000
END:DAYLIGHT
BEGIN:STANDARD
TZOFFSETFROM:+0200
TZOFFSETTO:+0100
TZNAME:CET
DTSTART:20241027T010000
END:STANDARD
END:VTIMEZONE
BEGIN:VEVENT
DTSTART;TZID=Europe/Paris:20240305T140000
DTEND;TZID=Europe/Paris:20240308T170000
DTSTAMP:20260424T170725
CREATED:20231213T153340Z
LAST-MODIFIED:20231213T153425Z
UID:12183-1709647200-1709917200@afigese.fr
SUMMARY:Définir la bonne stratégie de calcul de coûts et de tarification des services publics locaux
DESCRIPTION:FORMATION EN VISIO \nDéfinir la bonne stratégie de calcul de coûts et de tarification des services publics locaux \n  \nRetrouvez le programme complet de la formation et les modalités d’inscription ici.
URL:https://afigese.fr/evenement/definir-la-bonne-strategie-de-calcul-de-couts-et-de-tarification-des-services-publics-locaux-3/
LOCATION:à distance
CATEGORIES:Formations
END:VEVENT
END:VCALENDAR