BEGIN:VCALENDAR
VERSION:2.0
PRODID:-//Afigese - ECPv6.10.3//NONSGML v1.0//EN
CALSCALE:GREGORIAN
METHOD:PUBLISH
X-WR-CALNAME:Afigese
X-ORIGINAL-URL:https://afigese.fr
X-WR-CALDESC:Évènements pour Afigese
REFRESH-INTERVAL;VALUE=DURATION:PT1H
X-Robots-Tag:noindex
X-PUBLISHED-TTL:PT1H
BEGIN:VTIMEZONE
TZID:Europe/Paris
BEGIN:DAYLIGHT
TZOFFSETFROM:+0100
TZOFFSETTO:+0200
TZNAME:CEST
DTSTART:20230326T010000
END:DAYLIGHT
BEGIN:STANDARD
TZOFFSETFROM:+0200
TZOFFSETTO:+0100
TZNAME:CET
DTSTART:20231029T010000
END:STANDARD
END:VTIMEZONE
BEGIN:VEVENT
DTSTART;VALUE=DATE:20231206
DTEND;VALUE=DATE:20231209
DTSTAMP:20260424T220552
CREATED:20221123T084748Z
LAST-MODIFIED:20230503T133930Z
UID:10610-1701820800-1702079999@afigese.fr
SUMMARY:Réussir la bascule en M57
DESCRIPTION:FORMATION EN VISIO \nRéussir la bascule en M57 \n  \nRetrouvez le programme complet de la formation et les modalités d’inscription ici.
URL:https://afigese.fr/evenement/reussir-la-bascule-en-m57-10/
LOCATION:à distance
CATEGORIES:Formations
END:VEVENT
BEGIN:VEVENT
DTSTART;TZID=Europe/Paris:20231206T093000
DTEND;TZID=Europe/Paris:20231206T170000
DTSTAMP:20260424T220552
CREATED:20230206T092954Z
LAST-MODIFIED:20230206T092954Z
UID:10925-1701855000-1701882000@afigese.fr
SUMMARY:Bureau et Conseil d'administration de l'AFIGESE
DESCRIPTION:Réunion du Bureau de l’AFIGESE le matin \nRéunion du Conseil d’administration de l’AFIGESE l’après-midi \n  \nEn présentiel
URL:https://afigese.fr/evenement/bureau-et-conseil-dadministration-de-lafigese-2/
LOCATION:Locaux AFIGESE -Saint-Denis\, 2 boulevard de la Libération\, Bâtiment B1 Seine Pleyel\, Saint-Denis\, 93200\, France
CATEGORIES:BUREAU
ATTACH;FMTTYPE=image/jpeg:https://afigese.fr/wp-content/uploads/2022/11/Bandeau-calendrier-CA-2022-scaled.jpg
GEO:48.9273012;2.3387643
X-APPLE-STRUCTURED-LOCATION;VALUE=URI;X-ADDRESS=Locaux AFIGESE -Saint-Denis 2 boulevard de la Libération Bâtiment B1 Seine Pleyel Saint-Denis 93200 France;X-APPLE-RADIUS=500;X-TITLE=2 boulevard de la Libération\, Bâtiment B1 Seine Pleyel:geo:2.3387643,48.9273012
END:VEVENT
END:VCALENDAR