BEGIN:VCALENDAR
VERSION:2.0
PRODID:-//Afigese - ECPv6.10.3//NONSGML v1.0//EN
CALSCALE:GREGORIAN
METHOD:PUBLISH
X-WR-CALNAME:Afigese
X-ORIGINAL-URL:https://afigese.fr
X-WR-CALDESC:Évènements pour Afigese
REFRESH-INTERVAL;VALUE=DURATION:PT1H
X-Robots-Tag:noindex
X-PUBLISHED-TTL:PT1H
BEGIN:VTIMEZONE
TZID:Europe/Paris
BEGIN:DAYLIGHT
TZOFFSETFROM:+0100
TZOFFSETTO:+0200
TZNAME:CEST
DTSTART:20230326T010000
END:DAYLIGHT
BEGIN:STANDARD
TZOFFSETFROM:+0200
TZOFFSETTO:+0100
TZNAME:CET
DTSTART:20231029T010000
END:STANDARD
END:VTIMEZONE
BEGIN:VEVENT
DTSTART;VALUE=DATE:20231116
DTEND;VALUE=DATE:20231118
DTSTAMP:20260424T234637
CREATED:20221123T085137Z
LAST-MODIFIED:20230503T134258Z
UID:10612-1700092800-1700265599@afigese.fr
SUMMARY:La qualité comptable\, enjeu de maîtrise de la dépense et prérequis à la certification des comptes
DESCRIPTION:FORMATION EN PRESENTIEL\, A LYON \nLa qualité comptable\, enjeu de maîtrise de la dépense et prérequis à la certification des comptes \n  \nRetrouvez le programme complet de la formation et les modalités d’inscription ici.
URL:https://afigese.fr/evenement/la-qualite-comptable-enjeu-de-maitrise-de-la-depense-et-prerequis-a-la-certification-des-comptes-6/
LOCATION:LYON\, LYON\, 69000\, France
CATEGORIES:Formations
GEO:45.764043;4.835659
END:VEVENT
END:VCALENDAR