BEGIN:VCALENDAR
VERSION:2.0
PRODID:-//Afigese - ECPv6.10.3//NONSGML v1.0//EN
CALSCALE:GREGORIAN
METHOD:PUBLISH
X-WR-CALNAME:Afigese
X-ORIGINAL-URL:https://afigese.fr
X-WR-CALDESC:Évènements pour Afigese
REFRESH-INTERVAL;VALUE=DURATION:PT1H
X-Robots-Tag:noindex
X-PUBLISHED-TTL:PT1H
BEGIN:VTIMEZONE
TZID:Europe/Paris
BEGIN:DAYLIGHT
TZOFFSETFROM:+0100
TZOFFSETTO:+0200
TZNAME:CEST
DTSTART:20230326T010000
END:DAYLIGHT
BEGIN:STANDARD
TZOFFSETFROM:+0200
TZOFFSETTO:+0100
TZNAME:CET
DTSTART:20231029T010000
END:STANDARD
END:VTIMEZONE
BEGIN:VEVENT
DTSTART;VALUE=DATE:20230314
DTEND;VALUE=DATE:20230316
DTSTAMP:20260425T133323
CREATED:20221122T114525Z
LAST-MODIFIED:20230314T141543Z
UID:10591-1678752000-1678924799@afigese.fr
SUMMARY:Elaborer une stratégie et un pilotage de la dette et de la trésorerie
DESCRIPTION:FORMATION EN PRESENTIEL\, A PARIS \nElaborer une stratégie de pilotage de la dette et de la trésorerie \n  \nRetrouvez le programme complet de la formation et les modalités d’inscription ici.
URL:https://afigese.fr/evenement/elaborer-une-strategie-et-un-pilotage-de-la-dette-et-de-la-tresorerie/
LOCATION:Saint-Denis\, Ile-de-France
CATEGORIES:Formations
END:VEVENT
END:VCALENDAR